BEGIN:VCALENDAR
VERSION:2.0
PRODID:-//ChamberMaster//Event Calendar 2.0//EN
METHOD:PUBLISH
X-PUBLISHED-TTL:P3D
REFRESH-INTERVAL:P3D
CALSCALE:GREGORIAN
BEGIN:VEVENT
DTSTART:20220414T210000Z
DTEND:20220414T220000Z
X-MICROSOFT-CDO-ALLDAYEVENT:FALSE
SUMMARY:Arctic Visitors - Winter Water Birds of Seward Park
DESCRIPTION:Join Lead Naturalist Ed Dominguez from The Seward Park Audubon Center as he tells us about these beautiful Arctic Visitors. From small rainwater ponds to lakes to Puget Sound birds\, join us to learn how birds from far north have migrated south to overwinter with us. \n\n\n\nPlease RSVP by April 8th. Space is limited. Refreshments will be served.\n\nGuests are asked to wear masks during the presentation\, and be vaccinated.
X-ALT-DESC;FMTTYPE=text/html:Join Lead Naturalist Ed Dominguez from The Seward Park Audubon Center as he tells us about these beautiful Arctic Visitors. From small rainwater ponds to lakes to Puget Sound birds\, join us to learn how birds from far north have migrated south to overwinter with us.&nbsp\;<br />\n<br />\nPlease RSVP by April 8th. Space is limited. Refreshments will be served.<br />\nGuests are asked to wear masks during the presentation\, and be vaccinated.
LOCATION:The Lakeshore Retirement Community - The Lakeview Dining Room
UID:e.16.11467
SEQUENCE:3
DTSTAMP:20260420T030513Z
URL:https://chamber.gorenton.com/events/details/arctic-visitors-winter-water-birds-of-seward-park-11467
END:VEVENT

END:VCALENDAR
