BEGIN:VCALENDAR
VERSION:2.0
PRODID:-//ChamberMaster//Event Calendar 2.0//EN
METHOD:PUBLISH
X-PUBLISHED-TTL:P3D
REFRESH-INTERVAL:P3D
CALSCALE:GREGORIAN
BEGIN:VEVENT
DTSTART:20191215T030000Z
DTEND:20191215T054500Z
X-MICROSOFT-CDO-ALLDAYEVENT:FALSE
SUMMARY:Argosy Cruises Christmas Ship™ Festival
DESCRIPTION:Argosy Cruises Christmas Ship  Festival is a ship-to-shore holiday celebration that has been a Northwest tradition for 70 years. The Spirit of Seattle\, the official Christmas Ship \, is decorated with hundreds of shimmery white lights and sails to different Puget Sound waterfront communities   around 65 in all. Choirs on board the Christmas Ship  perform to guests aboard\, to follow boats and to communities gathered on shore.
X-ALT-DESC;FMTTYPE=text/html:Argosy Cruises Christmas Ship&trade\; Festival is a ship-to-shore holiday celebration that has been a Northwest tradition for 70 years. The Spirit of Seattle\, the official Christmas Ship&trade\;\, is decorated with hundreds of shimmery white lights and sails to different Puget Sound waterfront communities &ndash\; around 65 in all. Choirs on board the Christmas Ship&trade\; perform to guests aboard\, to follow boats and to communities gathered on shore.
LOCATION:Departs Hyatt Regency Lake Washington 1053 Lake Washington Blvd N Renton\, WA 98056
UID:e.16.6679
SEQUENCE:3
DTSTAMP:20260423T175057Z
URL:https://chamber.gorenton.com/events/details/argosy-cruises-christmas-ship-festival-12-14-2019-6679
END:VEVENT

END:VCALENDAR
