BEGIN:VCALENDAR
VERSION:2.0
PRODID:-//ChamberMaster//Event Calendar 2.0//EN
METHOD:PUBLISH
X-PUBLISHED-TTL:P3D
REFRESH-INTERVAL:P3D
CALSCALE:GREGORIAN
BEGIN:VEVENT
DTSTART:20190117T220000Z
DTEND:20190117T230000Z
X-MICROSOFT-CDO-ALLDAYEVENT:FALSE
SUMMARY:Bach to the Future Cellist Gretchen Yanover
DESCRIPTION:Seattle's own\, Gretchen Yanover\, will perform a collection of classical favorites and improvised pieces with her electric cello and sampler. RSVP today for a special afternoon of music!
X-ALT-DESC;FMTTYPE=text/html:Seattle&#39\;s own\, Gretchen Yanover\, will perform a collection of classical favorites and improvised pieces with her electric cello and sampler. RSVP today for a special afternoon of music!
LOCATION:The Lakeshore 11448 Rainier Ave S Seattle WA 98178
UID:e.16.5990
SEQUENCE:3
DTSTAMP:20260424T093127Z
URL:https://chamber.gorenton.com/events/details/bach-to-the-future-cellist-gretchen-yanover-5990
END:VEVENT

END:VCALENDAR
