BEGIN:VCALENDAR
VERSION:2.0
PRODID:-//ChamberMaster//Event Calendar 2.0//EN
METHOD:PUBLISH
X-PUBLISHED-TTL:P3D
REFRESH-INTERVAL:P3D
CALSCALE:GREGORIAN
BEGIN:VEVENT
DTSTART:20191213T010000Z
DTEND:20191213T030000Z
X-MICROSOFT-CDO-ALLDAYEVENT:FALSE
SUMMARY:Bad Santa comes to Renton Chamber After Hours
DESCRIPTION:Bad Santa will be in the house so get ready to get your photo's taken whether your naughty or nice (in this case he might take a liking to naughty.)\n\nJoin us as we celebrate the holidays with a photo-op with Hudson's Santa\; cannot guarantee his demeanor.
X-ALT-DESC;FMTTYPE=text/html:<span style="color: rgb(29\, 33\, 41)\; font-family: Helvetica\, Arial\, sans-serif\; font-size: 14px\; white-space: pre-wrap\; background-color: rgb(255\, 255\, 255)\;">Bad Santa will be in the house so get ready to get your photo&#39\;s taken whether your naughty or nice (in this case he might take a liking to naughty.)</span><br style="color: rgb(29\, 33\, 41)\; font-family: Helvetica\, Arial\, sans-serif\; font-size: 14px\; white-space: pre-wrap\; background-color: rgb(255\, 255\, 255)\;" />\n<span style="color: rgb(29\, 33\, 41)\; font-family: Helvetica\, Arial\, sans-serif\; font-size: 14px\; white-space: pre-wrap\; background-color: rgb(255\, 255\, 255)\;">Join us as we celebrate the holidays with a photo-op with Hudson&#39\;s Santa\; cannot guarantee his demeanor.</span>
LOCATION:pin Hudson's Portrait Design 641 Strander Blvd\, Tukwila\, Washington 98188
UID:e.16.6711
SEQUENCE:3
DTSTAMP:20260423T192108Z
URL:https://chamber.gorenton.com/events/details/bad-santa-comes-to-renton-chamber-after-hours-6711
END:VEVENT

END:VCALENDAR
