BEGIN:VCALENDAR
VERSION:2.0
PRODID:-//ChamberMaster//Event Calendar 2.0//EN
METHOD:PUBLISH
X-PUBLISHED-TTL:P3D
REFRESH-INTERVAL:P3D
CALSCALE:GREGORIAN
BEGIN:VEVENT
DTSTART:20181116T190000Z
DTEND:20181116T210000Z
X-MICROSOFT-CDO-ALLDAYEVENT:FALSE
SUMMARY:Baden's Holiday Employee Sale
DESCRIPTION:Baden Sports has invited chamber members and friends to their Holiday Employee Sale Friday. Come on over and take advantage of this great opportunity. Perfect for the holidays!
X-ALT-DESC;FMTTYPE=text/html:Baden Sports has invited chamber members and friends to their Holiday Employee Sale Friday. Come on over and take advantage of this great opportunity. Perfect for the holidays!
LOCATION:3401 Lind Ave. SW Renton\, WA 98057
UID:e.16.5976
SEQUENCE:3
DTSTAMP:20260424T123857Z
URL:https://chamber.gorenton.com/events/details/baden-s-holiday-employee-sale-5976
END:VEVENT

END:VCALENDAR
