BEGIN:VCALENDAR
VERSION:2.0
PRODID:-//ChamberMaster//Event Calendar 2.0//EN
METHOD:PUBLISH
X-PUBLISHED-TTL:P3D
REFRESH-INTERVAL:P3D
CALSCALE:GREGORIAN
BEGIN:VEVENT
DTSTART:20211211T020000Z
DTEND:20211211T033000Z
X-MICROSOFT-CDO-ALLDAYEVENT:FALSE
SUMMARY:Battle of the Badges 2021: Holiday Light Edition!
DESCRIPTION:Public Safety personnel from around the region will get festive and decorate their vehicle or a 10x10 canopy\, then YOU get to drive through and vote on the best Use of Lights\, OVerall Design and Holiday Spirit!
X-ALT-DESC;FMTTYPE=text/html:Public Safety personnel from around the region will get festive and decorate their vehicle or a 10x10 canopy\, then YOU get to drive through and vote on the best Use of Lights\, OVerall Design and Holiday Spirit!
LOCATION:Renton Community Center Parking Lot 1715 SE Maple Valley Hwy
UID:e.16.10646
SEQUENCE:3
DTSTAMP:20260420T074151Z
URL:https://chamber.gorenton.com/events/details/battle-of-the-badges-2021-holiday-light-edition-10646
END:VEVENT

END:VCALENDAR
