BEGIN:VCALENDAR
VERSION:2.0
PRODID:-//ChamberMaster//Event Calendar 2.0//EN
METHOD:PUBLISH
X-PUBLISHED-TTL:P3D
REFRESH-INTERVAL:P3D
CALSCALE:GREGORIAN
BEGIN:VEVENT
DTSTART:20220416T160000Z
DTEND:20220416T200000Z
X-MICROSOFT-CDO-ALLDAYEVENT:FALSE
SUMMARY:BECU Spring Shred Event
DESCRIPTION:You're invited to our Free\, Spring Shred Event to all in the community. \n\n\n\nShred sensitive documents\, discard old electronics\, upcycle unwanted bikes and donate to local food banks. \n\n\n\nOur free\, contactless member shred event is back. On Saturday\, April 16\, bring up to three grocery bags or two banker boxes of old documents and electronics.* That includes old TVs\, CPUs\, monitors\, laptops and cellphones for safe disposal. A small recycle fee may apply to some electronic items. Bikes may be brought to our Tukwila location for upcycling to Bike Works. While you're at it\, consider helping out neighbors in need by donating cash or nonperishables to the Tukwila Pantry Food Bank. We'll have a local food bank representative on-site to collect your donation.
X-ALT-DESC;FMTTYPE=text/html:You&#39\;re invited to our Free\, Spring Shred Event to all in the community.&nbsp\;<br />\n<br />\nShred sensitive documents\, discard old electronics\, upcycle unwanted bikes and donate to local food banks.&nbsp\;<br />\n<br />\nOur free\, contactless member shred event is back. On Saturday\, April 16\, bring up to three grocery bags or two banker boxes of old documents and electronics.* That includes old TVs\, CPUs\, monitors\, laptops and cellphones for safe disposal. A small recycle fee may apply to some electronic items. Bikes may be brought to our Tukwila location for upcycling to Bike Works. While you&rsquo\;re at it\, consider helping out neighbors in need by donating cash or nonperishables to the Tukwila Pantry Food Bank. We&rsquo\;ll have a local food bank representative on-site to collect your donation.
LOCATION:BECU Tukwila Financial Center 12770 Gateway Drive Tukwila\, WA 98168
UID:e.16.11471
SEQUENCE:3
DTSTAMP:20260420T014052Z
URL:https://chamber.gorenton.com/events/details/becu-spring-shred-event-11471
END:VEVENT

END:VCALENDAR
