BEGIN:VCALENDAR
VERSION:2.0
PRODID:-//ChamberMaster//Event Calendar 2.0//EN
METHOD:PUBLISH
X-PUBLISHED-TTL:P3D
REFRESH-INTERVAL:P3D
CALSCALE:GREGORIAN
BEGIN:VEVENT
DTSTART:20210226T000000Z
DTEND:20210226T013000Z
X-MICROSOFT-CDO-ALLDAYEVENT:FALSE
SUMMARY:Best of Renton Virtual Reveal
DESCRIPTION:Show your love for the Renton business community and join the Renton Reporter and Renton Chamber of Commerce in celebrating the winners and finalists of Best of Renton 2021.\n\nAfter registering you will receive an email with information on joining the virtual event.
X-ALT-DESC;FMTTYPE=text/html:Show your love for the Renton business community and join the Renton Reporter and Renton Chamber of Commerce in celebrating the winners and finalists of Best of Renton 2021.<br />\nAfter registering you will receive an email with information on joining the virtual event.<br />\n&nbsp\;
LOCATION:
UID:e.16.7872
SEQUENCE:3
DTSTAMP:20260420T213537Z
URL:https://chamber.gorenton.com/events/details/best-of-renton-virtual-reveal-7872
END:VEVENT

END:VCALENDAR
