BEGIN:VCALENDAR
VERSION:2.0
PRODID:-//ChamberMaster//Event Calendar 2.0//EN
METHOD:PUBLISH
X-PUBLISHED-TTL:P3D
REFRESH-INTERVAL:P3D
CALSCALE:GREGORIAN
BEGIN:VEVENT
DTSTART:20210601T180000Z
DTEND:20210601T190000Z
X-MICROSOFT-CDO-ALLDAYEVENT:FALSE
SUMMARY:BEYOND PPP: What’s Less Known & NOT a Loan?
DESCRIPTION:Have you filed for ERC? Virtually all businesses are eligible for up to $33\,000 in tax credit for each employee regardless of past programs you may have participated in (including PPP). Trillions of dollars go unclaimed. Are you getting paid for your employees? If not\, you should be. (Calculate your eligibility at www.gmg.me/587823 ). Have you unlocked the cash in your Commercial Real Estate? Join us and claim the tax benefits you are entitled to   even if your business is not distressed.\n\n\n\nPresenter: Richard Toban is an advisor with Stryde Solutions/GMG specializing in Cost Remediation and Specialized Tax Incentives helping their clients claim millions of dollars for over 15 years. Additionally\, he assists his business clients with Exit Planning\, Contingency Planning and Proprietary Retirement Planning. He can be reached at (206) 418-6648 / richard@ashirafin.com
X-ALT-DESC;FMTTYPE=text/html:<span style="font-size:14px\;"><span style="font-family:tahoma\;"><span style="color: rgb(32\, 31\, 30)\;">Have you filed for ERC? Virtually all businesses are eligible for up to $33\,000 in tax credit for each employee regardless of past programs you may have participated in (including PPP). Trillions of dollars go unclaimed. Are you getting paid for your employees? If not\, you should be. (Calculate your eligibility at&nbsp\;</span><a data-auth="NotApplicable" data-linkindex="0" href="http://www.gmg.me/587823" rel="noopener noreferrer" style="margin: 0px\; padding: 0px\; border: 0px\; font-variant-numeric: inherit\; font-variant-east-asian: inherit\; font-stretch: inherit\; font-size: 15px\; line-height: inherit\; font-family: &quot\;Segoe UI&quot\;\, &quot\;Segoe UI Web (West European)&quot\;\, &quot\;Segoe UI&quot\;\, -apple-system\, BlinkMacSystemFont\, Roboto\, &quot\;Helvetica Neue&quot\;\, sans-serif\; vertical-align: baseline\;" target="_blank">www.gmg.me/587823</a><span style="color: rgb(32\, 31\, 30)\;">&nbsp\;). Have you unlocked the cash in your Commercial Real Estate? Join us and claim the tax benefits you are entitled to &ndash\; even if your business is not distressed.<br />\n<br />\nPresenter: Richard Toban is an advisor with Stryde Solutions/GMG specializing in Cost Remediation and Specialized Tax Incentives helping their clients claim millions of dollars for over 15 years. Additionally\, he assists his business clients with Exit Planning\, Contingency Planning and Proprietary Retirement Planning. He can be reached at (206) 418-6648 /&nbsp\;</span><a data-auth="NotApplicable" data-linkindex="1" href="mailto:richard@ashirafin.com" rel="noopener noreferrer" style="margin: 0px\; padding: 0px\; border: 0px\; font-variant-numeric: inherit\; font-variant-east-asian: inherit\; font-stretch: inherit\; font-size: 15px\; line-height: inherit\; font-family: &quot\;Segoe UI&quot\;\, &quot\;Segoe UI Web (West European)&quot\;\, &quot\;Segoe UI&quot\;\, -apple-system\, BlinkMacSystemFont\, Roboto\, &quot\;Helvetica Neue&quot\;\, sans-serif\; vertical-align: baseline\;" target="_blank">richard@ashirafin.com</a></span></span>
LOCATION:After registering\, you will receive a confirmation email containing information about joining the webinar.
UID:e.16.8198
SEQUENCE:3
DTSTAMP:20260420T160257Z
URL:https://chamber.gorenton.com/events/details/beyond-ppp-what-s-less-known-not-a-loan-8198
END:VEVENT

END:VCALENDAR
