BEGIN:VCALENDAR
VERSION:2.0
PRODID:-//ChamberMaster//Event Calendar 2.0//EN
METHOD:PUBLISH
X-PUBLISHED-TTL:P3D
REFRESH-INTERVAL:P3D
CALSCALE:GREGORIAN
BEGIN:VEVENT
DTSTART;VALUE=DATE:20221117
DTEND;VALUE=DATE:20221118
TRANSP:TRANSPARENT
X-MICROSOFT-CDO-ALLDAYEVENT:TRUE
SUMMARY:Bid to Win for Way Back Inn (a virtual silent auction)
DESCRIPTION:Way Back Inn has been serving the Renton community since 1991. Our mission is to help fight the crisis of people experiencing homelessness by providing low-income & unhoused families with resources to get them on the path to permanent housing. We provide transitional housing to families without other options\, as well as one-time rental/utilities assistance to families that are in danger of losing their homes. \n\n\n\nOur 2022 virtual auction is already under way and continues through Sunday evening. There is something for everyone\, with family activities\, Seahawks tickets and even a dream trip for a South African safari on a private game reserve. We invite you to come bid for a great cause!
X-ALT-DESC;FMTTYPE=text/html:Way Back Inn has been serving the Renton community since 1991. Our mission is to help fight the crisis of people experiencing homelessness by providing low-income &amp\; unhoused families with resources to get them on the path to permanent housing.&nbsp\;We provide transitional housing to families without other options\, as well as one-time rental/utilities assistance to families that are in danger of losing their homes.&nbsp\;<br />\n<br />\nOur 2022 virtual auction is already under way and continues through Sunday evening. There is something for everyone\, with family activities\, Seahawks tickets and even a dream trip for a South African safari on a private game reserve. We invite you to come bid for a great cause!
LOCATION:https://waybackinnfoundation.schoolauction.net/auction2022/
UID:e.16.13652
SEQUENCE:3
DTSTAMP:20260419T163016Z
URL:https://chamber.gorenton.com/events/details/bid-to-win-for-way-back-inn-a-virtual-silent-auction-11-17-2022-13652
END:VEVENT

END:VCALENDAR
