BEGIN:VCALENDAR
VERSION:2.0
PRODID:-//ChamberMaster//Event Calendar 2.0//EN
METHOD:PUBLISH
X-PUBLISHED-TTL:P3D
REFRESH-INTERVAL:P3D
CALSCALE:GREGORIAN
BEGIN:VEVENT
DTSTART:20200306T020000Z
DTEND:20200306T030000Z
X-MICROSOFT-CDO-ALLDAYEVENT:FALSE
SUMMARY:Black Fashionista!
DESCRIPTION:The fashion industry\, like so many industries in the United States\, is dominated by White designers. Join UW PhD student Victoria Thomas as we celebrate the history of Black women fashion designers\, their fashion sense\, and the celebrities they have styles during the 21st century.
X-ALT-DESC;FMTTYPE=text/html:The fashion industry\, like so many industries in the United States\, is dominated by White designers. Join UW PhD student Victoria Thomas as we celebrate the history of Black women fashion designers\, their fashion sense\, and the celebrities they have styles during the 21st century.
LOCATION:Renton History Museum 235 Mill Ave S Renton WA 98057
UID:e.16.6724
SEQUENCE:3
DTSTAMP:20260423T131122Z
URL:https://chamber.gorenton.com/events/details/black-fashionista-6724
END:VEVENT

END:VCALENDAR
