BEGIN:VCALENDAR
VERSION:2.0
PRODID:-//ChamberMaster//Event Calendar 2.0//EN
METHOD:PUBLISH
X-PUBLISHED-TTL:P3D
REFRESH-INTERVAL:P3D
CALSCALE:GREGORIAN
BEGIN:VEVENT
DTSTART:20180209T023000Z
DTEND:20180209T033000Z
X-MICROSOFT-CDO-ALLDAYEVENT:FALSE
SUMMARY:Black Fashionista! The History of Black Women Fashion Designers
DESCRIPTION:Thursday\, February 8\, 6:30 - 7:30 pm Decades ago\, it was rare to see Black fashion designers who were women designing ready-to-wear clothing\, red carpet fashion\, and runway fashion. The fashion industry\, like many industries in the United States is dominated by White designers. This lecture discusses modern day fashion designers who are Black women\, their fashion style\, and the celebrities they have styled during the 21st century.
X-ALT-DESC;FMTTYPE=text/html:Thursday\, February 8\, 6:30 - 7:30 pm Decades ago\, it was rare to see Black fashion designers who were women designing ready-to-wear clothing\, red carpet fashion\, and runway fashion. The fashion industry\, like many industries in the United States is dominated by White designers. This lecture discusses modern day fashion designers who are Black women\, their fashion style\, and the celebrities they have styled during the 21st century.
LOCATION:RENTON HISTORY MUSEUM 235 Mill Ave. S. Renton\, WA 98057
UID:e.16.5722
SEQUENCE:3
DTSTAMP:20260425T024501Z
URL:https://chamber.gorenton.com/events/details/black-fashionista-the-history-of-black-women-fashion-designers-5722
END:VEVENT

END:VCALENDAR
