BEGIN:VCALENDAR
VERSION:2.0
PRODID:-//ChamberMaster//Event Calendar 2.0//EN
METHOD:PUBLISH
X-PUBLISHED-TTL:P3D
REFRESH-INTERVAL:P3D
CALSCALE:GREGORIAN
BEGIN:VEVENT
DTSTART:20211219T200000Z
DTEND:20211220T010000Z
X-MICROSOFT-CDO-ALLDAYEVENT:FALSE
SUMMARY:BLM Market presents "The North Pole" Vendors Market
DESCRIPTION:Join the Black Love Market at the Renton Chamber of Commerce for "The North Pole".  Support businesses (not just black owned) as they collaborate to create an inviting holiday experience.\n\nHot Cocoa\n\nCupcakes for Veteran's Families\n\nSanta Photos\n\nToy Drive\n\nCrafts
X-ALT-DESC;FMTTYPE=text/html:<p>Join the Black Love Market at the Renton Chamber of Commerce for &quot\;The North Pole&quot\;.&nbsp\; Support businesses (not just black owned) as they collaborate to create an inviting holiday experience.</p>\n\n<p>Hot Cocoa<br />\nCupcakes for Veteran&#39\;s Families<br />\nSanta Photos<br />\nToy Drive<br />\nCrafts&nbsp\;&nbsp\;&nbsp\;&nbsp\;</p>\n
LOCATION:Renton Chamber of Commerce 625 S 4th St\, Renton WA
UID:e.16.10647
SEQUENCE:3
DTSTAMP:20260420T074103Z
URL:https://chamber.gorenton.com/events/details/blm-market-presents-the-north-pole-vendors-market-10647
END:VEVENT

END:VCALENDAR
