BEGIN:VCALENDAR
VERSION:2.0
PRODID:-//ChamberMaster//Event Calendar 2.0//EN
METHOD:PUBLISH
X-PUBLISHED-TTL:P3D
REFRESH-INTERVAL:P3D
CALSCALE:GREGORIAN
BEGIN:VEVENT
DTSTART:20221123T163000Z
DTEND:20221124T003000Z
X-MICROSOFT-CDO-ALLDAYEVENT:FALSE
SUMMARY:Blood Drives Returning to Valley Medical Center!
DESCRIPTION:In partnership with Bloodworks Northwest\, we're encouraging all eligible community members to donate blood on Wednesday\, Nov. 23\, 2022 in MAC A&B. \n\nDonating blood is an essential and encouraged activity critical to sustaining community healthcare\, especially during emergencies. This one-hour donation appointment is a safe and essential action to support local hospitals and patients. Pop-Up Donor Centers are being conducted in accordance with social distancing guidelines.\n\nNo walk-ins\, guests\, or people under age 16 are permitted onsite. All donors are required to wear masks or face coverings during their appointment.\n\nTo make an appointment please visit this LINK or call 1-800-398-7888.\n\nPlease see bloodworksnw.org/coronavirus for more information on steps we're taking to keep our donors and staff safe.
X-ALT-DESC;FMTTYPE=text/html:<p>In partnership with Bloodworks Northwest\, we&#39\;re encouraging all eligible community members to donate blood on&nbsp\;<strong>Wednesday\, Nov.&nbsp\;23<span style="font-size:10.8333px">\,&nbsp\;</span></strong><strong>2022 in MAC A&amp\;B.&nbsp\;</strong></p>\n\n<p><strong>Donating blood is an essential and encouraged activity</strong>&nbsp\;critical to sustaining community healthcare\, especially during emergencies. This one-hour donation appointment is a safe and essential action to support local hospitals and patients.&nbsp\;<strong>Pop-Up Donor Centers are being conducted in accordance with social distancing guidelines.</strong></p>\n\n<p><strong>No walk-ins\, guests\, or people under age 16 are permitted onsite. All donors are required to wear masks or face coverings during their appointment.</strong></p>\n\n<p>To make an appointment please visit this&nbsp\;<a href="https://schedule.bloodworksnw.org/DonorPortal/GroupLanding.aspx?s=3840" style="color: rgb(86\, 160\, 211)\; text-decoration-line: none\;" target="_blank"><strong>LINK</strong></a>&nbsp\;or call 1-800-398-7888.</p>\n\n<p><em>Please see bloodworksnw.org/coronavirus for more information on steps we&#39\;re taking to keep our donors and staff safe.&nbsp\;</em></p>\n
LOCATION:Valley Medical Center Campus Medical Arts Center Building 1st Floor | Rooms A & B 4033 Talbot Rd S Suite 530 Renton\, WA 98055
UID:e.16.13632
SEQUENCE:3
DTSTAMP:20260419T163127Z
URL:https://chamber.gorenton.com/events/details/blood-drives-returning-to-valley-medical-center-13632
END:VEVENT

END:VCALENDAR
