BEGIN:VCALENDAR
VERSION:2.0
PRODID:-//ChamberMaster//Event Calendar 2.0//EN
METHOD:PUBLISH
X-PUBLISHED-TTL:P3D
REFRESH-INTERVAL:P3D
CALSCALE:GREGORIAN
BEGIN:VEVENT
DTSTART:20221229T180000Z
DTEND:20221230T000000Z
X-MICROSOFT-CDO-ALLDAYEVENT:FALSE
SUMMARY:Bloodworks Pop-Up Drive @ Hyatt Regency Lake Washington
DESCRIPTION:In partnership with Bloodworks Northwest\, we're encouraging all eligible community members to donate blood at our nearby Pop-Up Donor Center on \n\nThursday\, December 29th \n\n\n\nDonating blood is an essential and encouraged activity critical to sustaining community healthcare\, especially during emergencies. This one-hour donation appointment is a safe and essential action to support local hospitals and patients. \n\nPop-Up Donor Centers are being conducted in accordance with social distancing guidelines.\n\nNo walk-ins\, guests\, or people under age 16 are permitted onsite. All donors are required to wear masks or face coverings during their appointment. \n\nTo make an appointment please visit LINK\n\nor call 1-800-398-7888.
X-ALT-DESC;FMTTYPE=text/html:<span style="color:black"><span style="font-family:calibri\,sans-serif"><span style="font-size:16.0pt">In partnership with Bloodworks Northwest\, we&rsquo\;re encouraging all eligible community members to donate blood at our nearby Pop-Up Donor Center on </span></span></span><br />\n<strong><span style="color:black"><span style="font-family:calibri\,sans-serif"><span style="font-size:20.0pt">Thursday\, December 29<sup>th</sup> </span></span></span></strong><br />\n<br />\n<strong><span style="color:red"><span style="font-family:calibri\,sans-serif"><span style="font-size:16.0pt">Donating blood is an essential and encouraged activity</span></span></span></strong> <span style="color:black"><span style="font-family:calibri\,sans-serif"><span style="font-size:16.0pt">critical to sustaining community healthcare\, especially during emergencies. This one-hour donation appointment is a safe and essential action to support local hospitals and patients. </span></span></span><br />\n<strong><span style="color:red"><span style="font-family:calibri\,sans-serif"><span style="font-size:16.0pt">Pop-Up Donor Centers are being conducted in accordance with social distancing guidelines.</span></span></span></strong><br />\n<strong><span style="color:red"><span style="font-family:calibri\,sans-serif"><span style="font-size:16.0pt">No walk-ins\, guests\, or people under age 16 are permitted onsite. All donors are required to wear masks or face coverings during their appointment. </span></span></span></strong><br />\n<span style="color:black"><span style="font-family:calibri\,sans-serif"><span style="font-size:16.0pt">To make an appointment please visit </span></span></span><a href="https://schedule.bloodworksnw.org/DonorPortal/GroupLanding.aspx?s=744B"><strong><span style="font-family:calibri\,sans-serif"><span style="font-size:16.0pt">LINK</span></span></strong></a><br />\n<span style="color:black"><span style="font-family:calibri\,sans-serif"><span style="font-size:16.0pt">or call 1-800-398-7888.</span></span></span>
LOCATION:
UID:e.16.13964
SEQUENCE:3
DTSTAMP:20260419T163037Z
URL:https://chamber.gorenton.com/events/details/bloodworks-pop-up-drive-hyatt-regency-lake-washington-13964
END:VEVENT

END:VCALENDAR
