BEGIN:VCALENDAR
VERSION:2.0
PRODID:-//ChamberMaster//Event Calendar 2.0//EN
METHOD:PUBLISH
X-PUBLISHED-TTL:P3D
REFRESH-INTERVAL:P3D
CALSCALE:GREGORIAN
BEGIN:VEVENT
DTSTART:20220614T173000Z
DTEND:20220615T001500Z
X-MICROSOFT-CDO-ALLDAYEVENT:FALSE
SUMMARY:Bloodworks Pop-Up Drive @ Renton Community Center
DESCRIPTION:Donate at the Renton Community Center Pop-Up! \n\n \n\nRenton Community Center and Bloodworks Northwest are partnering to provide blood in an effort to support hospitals and the surgeries and medical procedures that require transfusions. The Renton Community Center will transform into a Pop-Up Donor Center providing additional opportunities for people to give blood. Local\, state\, and national leaders are unanimous   donating blood remains a critical and safe activity for community health.\n\n \n\nAll donations at this Pop-Up Donor Center and our other Donor Centers are by appointment only to provide the safest donation environment and adhere to all social distancing guidelines. Additionally\, no walk-ins\, guests\, or people under age 16 are permitted onsite. Donors are asked to bring a mask/face covering to their donation. Your one-hour donation appointment is a safe and essential action to support local hospitals.\n\n\n\nPop-Up @ Renton Community Center\n\nRenton Community Center Banquet Room  \n\n1715 Maple Valley Hwy\n\nRenton\, WA 98057  (Map It)\n\n\n\nJune 14th: Check out the link for all dates/hours!\n\n \n\nAppointments are required: Click HERE to schedule your appointment or call 1-800-398-7888\n\n \n\n \n\nTo make your appointment for this pop-up center\, visit BloodworksNW.org or call 800-398-7888. Have a question? Email Bloodworks Northwest. For more information regarding blood donation during COVID-19\, visit bloodworksnw.org/coronavirus
X-ALT-DESC;FMTTYPE=text/html:<strong><span style="font-size:16.0pt">Donate at the Renton Community Center Pop-Up! </span></strong><br />\n&nbsp\;<br />\nRenton Community Center and Bloodworks Northwest are partnering to provide blood in an effort to support hospitals and the surgeries and medical procedures that require transfusions. The Renton Community Center will transform into a Pop-Up Donor Center providing additional opportunities for people to give blood. <strong>Local\, state\, and national leaders are unanimous &ndash\; donating blood remains a critical and safe activity for community health.</strong><br />\n&nbsp\;<br />\n<span style="color:black">All donations at this Pop-Up Donor Center and our other Donor Centers are by <strong><u><a href="https://schedule.bloodworksnw.org/DonorPortal/GroupLanding.aspx?s=696B">appointment only</a> </u></strong>to provide the safest donation environment and adhere to all social distancing guidelines. Additionally\, no walk-ins\, guests\, or people under age 16 are permitted onsite. </span>Donors are asked to bring a mask/face covering to their donation. <strong><span style="color:black">Your one-hour donation appointment is a safe and essential action to support local hospitals.</span></strong><br />\n<br />\n<strong><span style="color:black"><span style="font-size:26.0pt">Pop-Up @ Renton Community Center</span></span></strong><br />\n<span style="color:black"><span style="font-size:18.0pt">Renton Community Center Banquet Room </span></span>&nbsp\;<br />\n<span style="color:black"><span style="font-size:18.0pt">1715 Maple Valley Hwy</span></span><br />\n<span style="color:black"><span style="font-size:18.0pt">Renton\, WA 98057 &nbsp\;(<a href="https://www.google.com/maps?f=q&amp\;q=1715+Maple+Valley+Hwy+Renton\,+WA+98057&amp\;hl=en&amp\;ie=UTF8">Map It)</a></span></span><br />\n<br />\n<strong><span style="color:black"><span style="font-size:22.0pt">June 14<sup>th</sup>: Check out the link for all dates/hours!</span></span></strong><br />\n&nbsp\;<br />\n<strong><span style="color:red"><span style="font-size:20.0pt">Appointments are required: </span></span></strong><strong><span style="color:black"><span style="font-size:20.0pt">Click </span></span></strong><strong><span style="font-size:20.0pt"><a href="https://schedule.bloodworksnw.org/DonorPortal/Schedule/TimeSelect.aspx">HERE</a></span></strong><strong><span style="color:black"><span style="font-size:20.0pt"> to schedule your appointment or call 1-800-398-7888</span></span></strong><br />\n&nbsp\;<br />\n&nbsp\;<br />\n<span style="font-family:calibri\,sans-serif"><span style="font-size:11.0pt">To make your appointment for this pop-up center\, visit <a href="insert%20tracking%20link%20here">BloodworksNW.org</a> or call 800-398-7888. Have a question? <a href="mailto:schedule@bloodworksnw.org">Email Bloodworks Northwest</a>. For more information regarding blood donation during COVID-19\, visit bloodworksnw.org/coronavirus</span></span>
LOCATION:
UID:e.16.11751
SEQUENCE:3
DTSTAMP:20260419T231715Z
URL:https://chamber.gorenton.com/events/details/bloodworks-pop-up-drive-renton-community-center-11751
END:VEVENT

END:VCALENDAR
