BEGIN:VCALENDAR
VERSION:2.0
PRODID:-//ChamberMaster//Event Calendar 2.0//EN
METHOD:PUBLISH
X-PUBLISHED-TTL:P3D
REFRESH-INTERVAL:P3D
CALSCALE:GREGORIAN
BEGIN:VEVENT
DTSTART:20221215T160000Z
DTEND:20221215T173000Z
X-MICROSOFT-CDO-ALLDAYEVENT:FALSE
SUMMARY:Board of Directors Meeting
DESCRIPTION:Renton Chamber Board of Directors meeting
X-ALT-DESC;FMTTYPE=text/html:Renton Chamber Board of Directors meeting
LOCATION:Meets at the chamber office unless otherwise noted.
UID:e.16.2645
SEQUENCE:3
DTSTAMP:20260419T151122Z
URL:https://chamber.gorenton.com/events/details/board-of-directors-meeting-12-15-2022-2645
END:VEVENT

END:VCALENDAR
