BEGIN:VCALENDAR
VERSION:2.0
PRODID:-//ChamberMaster//Event Calendar 2.0//EN
METHOD:PUBLISH
X-PUBLISHED-TTL:P3D
REFRESH-INTERVAL:P3D
CALSCALE:GREGORIAN
BEGIN:VEVENT
DTSTART:20201130T200000Z
DTEND:20201130T210000Z
X-MICROSOFT-CDO-ALLDAYEVENT:FALSE
SUMMARY:Boeing Community Conversation for Renton Chamber of Commerce
DESCRIPTION:JOIN BOEING'S SENIOR MANAGER\, STATE & LOCAL GOVERNMENT OPERATIONS\, RYAN TOMASICH \n\n \n\nLearn more about the impact of the COVID-19 pandemic on the aerospace industry and how Boeing is working to navigate through these unprecedented times. In the presentation\, we will share Boeing's latest market outlook\, explain the steps the company is making to best respond to the new market realities\, and educate members about Boeing's ongoing partnerships and investments in the Puget Sound community.
X-ALT-DESC;FMTTYPE=text/html:<div data-block="true" data-editor="4ueb5" data-offset-key="d88g0-0-0" style="font-family: Helvetica\, Arial\, sans-serif\; color: rgb(28\, 30\, 33)\; font-size: 14px\; white-space: pre-wrap\;">\n<div class="_1mf _1mj" data-offset-key="d88g0-0-0" style="position: relative\; direction: ltr\; font-family: inherit\;">\n<p><span data-font-id="undefined" style="color: rgb(20\, 20\, 20)\; font-family: &quot\;League Spartan&quot\;\; font-size: 28pt\;">JOIN BOEING&#39\;S SENIOR MANAGER\, STATE &amp\; LOCAL GOVERNMENT OPERATIONS\, RYAN TOMASICH</span><span data-font-id="undefined" style="color: rgb(20\, 20\, 20)\; font-family: &quot\;Futura Medium&quot\;\; font-size: 28pt\;"> </span></p>\n\n<p>&nbsp\;</p>\n\n<p><span data-font-id="undefined" style="color: rgb(20\, 20\, 20)\; font-family: &quot\;Futura Medium&quot\;\; font-size: 28pt\;">Learn more about the impact of the COVID-19 pandemic on the aerospace industry and how Boeing is working to navigate through these unprecedented times. In the presentation\, we will share Boeing&rsquo\;s latest market outlook\, explain the steps the company is making to best respond to the new market realities\, and educate members about Boeing&rsquo\;s ongoing partnerships and investments in the Puget Sound community.</span></p>\n\n<p>&nbsp\;</p>\n</div>\n</div>\n
LOCATION:Zoom: Must Pre-Register https://bit.ly/Boeing1130
UID:e.16.7109
SEQUENCE:3
DTSTAMP:20260421T023741Z
URL:https://chamber.gorenton.com/events/details/boeing-community-conversation-for-renton-chamber-of-commerce-7109
END:VEVENT

END:VCALENDAR
