BEGIN:VCALENDAR
VERSION:2.0
PRODID:-//ChamberMaster//Event Calendar 2.0//EN
METHOD:PUBLISH
X-PUBLISHED-TTL:P3D
REFRESH-INTERVAL:P3D
CALSCALE:GREGORIAN
BEGIN:VEVENT
DTSTART:20221029T180000Z
DTEND:20221030T020000Z
X-MICROSOFT-CDO-ALLDAYEVENT:FALSE
SUMMARY:BOGA Grand Opening Ribbon Cutting
DESCRIPTION:Ladies and Gentlemen\n\nYou're Invited to BOGA's \n\nGRAND OPENING
X-ALT-DESC;FMTTYPE=text/html:Ladies and Gentlemen<br />\nYou&#39\;re Invited to BOGA&#39\;s&nbsp\;<br />\nGRAND OPENING
LOCATION:505 South 3rd Street Renton\, WA 98059
UID:e.16.13637
SEQUENCE:3
DTSTAMP:20260419T174810Z
URL:https://chamber.gorenton.com/events/details/boga-grand-opening-ribbon-cutting-13637
END:VEVENT

END:VCALENDAR
