BEGIN:VCALENDAR
VERSION:2.0
PRODID:-//ChamberMaster//Event Calendar 2.0//EN
METHOD:PUBLISH
X-PUBLISHED-TTL:P3D
REFRESH-INTERVAL:P3D
CALSCALE:GREGORIAN
BEGIN:VEVENT
DTSTART:20180614T020000Z
DTEND:20180614T033000Z
X-MICROSOFT-CDO-ALLDAYEVENT:FALSE
SUMMARY:Bookmarks and Landmarks: The Big Burn by Timothy Egan
DESCRIPTION:Read it\, discuss it\, experience it. Egan dramatically tells the story of a 1910 forest fire that galvanized public opinion about the wilderness. As climate change increases the risk and severity of forest fires\, it is important to understand current policies and their history. Join the conversation at the Renton History Museum\, housed in a historical Art Deco fire station\, where Egan will come to talk about his book and answer questions. No requests for book-signing\, please. Registration is required and begins May 23 at https://kcls.bibliocommons.com/events/5b004fa0ba10a43500e250d8. Presented in partnership with SoCoCulture and King County Library Service.
X-ALT-DESC;FMTTYPE=text/html:Read it\, discuss it\, experience it. Egan dramatically tells the story of a 1910 forest fire that galvanized public opinion about the wilderness. As climate change increases the risk and severity of forest fires\, it is important to understand current policies and their history. Join the conversation at the Renton History Museum\, housed in a historical Art Deco fire station\, where Egan will come to talk about his book and answer questions. No requests for book-signing\, please. Registration is required and begins May 23 at https://kcls.bibliocommons.com/events/5b004fa0ba10a43500e250d8. Presented in partnership with SoCoCulture and King County Library Service.
LOCATION:Renton History Museum 235 Mill Ave South Renton\, WA 98057
UID:e.16.5861
SEQUENCE:3
DTSTAMP:20260424T201213Z
URL:https://chamber.gorenton.com/events/details/bookmarks-and-landmarks-the-big-burn-by-timothy-egan-5861
END:VEVENT

END:VCALENDAR
