BEGIN:VCALENDAR
VERSION:2.0
PRODID:-//ChamberMaster//Event Calendar 2.0//EN
METHOD:PUBLISH
X-PUBLISHED-TTL:P3D
REFRESH-INTERVAL:P3D
CALSCALE:GREGORIAN
BEGIN:VEVENT
DTSTART:20221013T010000Z
DTEND:20221113T050000Z
X-MICROSOFT-CDO-ALLDAYEVENT:FALSE
SUMMARY:Browne Family Vineyards Wine Dinner
DESCRIPTION:Join us for an intimate\, 5-course dinner paired with incredible food by Chef Azad and wines from Browne Family Vineyards. A portion of the proceeds will benefit Make-A-Wish Alaska and Washington.
X-ALT-DESC;FMTTYPE=text/html:Join us for an intimate\, 5-course dinner paired with incredible food by Chef Azad and wines from Browne Family Vineyards. A portion of the proceeds will benefit Make-A-Wish Alaska and Washington.
LOCATION:Hyatt Regency Lake Washington 1053 Lake Washington Blvd. N\, Renton WA 98056
UID:e.16.13641
SEQUENCE:3
DTSTAMP:20260419T174353Z
URL:https://chamber.gorenton.com/events/details/browne-family-vineyards-wine-dinner-13641
END:VEVENT

END:VCALENDAR
