BEGIN:VCALENDAR
VERSION:2.0
PRODID:-//ChamberMaster//Event Calendar 2.0//EN
METHOD:PUBLISH
X-PUBLISHED-TTL:P3D
REFRESH-INTERVAL:P3D
CALSCALE:GREGORIAN
BEGIN:VEVENT
DTSTART:20181026T000000Z
DTEND:20181026T020000Z
X-MICROSOFT-CDO-ALLDAYEVENT:FALSE
SUMMARY:Business After Hours - American Classic Homes Chili Cook Off
DESCRIPTION:Last year's event was so popular we had to do it again!\n\nJoin American Classic Homes for a Business After Hours event.\n\nChili Cook-off Challenge!\n\n To submit an entry\, be a judge\, or just ask further questions please contact Lori at \n\n 425-277-1500 or ljcarter553@gmail.com\n\n\n\n* Prizes* * Judges Choice* * Participants Choice* *Raffles*\n\n \n\n Network\, check out the facility\, and have some fun.
X-ALT-DESC;FMTTYPE=text/html:<div>\n<p style="margin: 0px\;"><span style="font-size:16px\;"><span style="font-family:times new roman\;">Last year&#39\;s event was so popular we had to do it again!<br />\nJoin&nbsp\;American Classic Homes&nbsp\;for a Business After Hours event.</span></span></p>\n\n<p style="margin: 0px\;"><span style="font-size:16px\;"><span style="font-family:times new roman\;">Chili Cook-off Challenge!<br />\n<span style="font-size:14px\;">&#8203\;To submit an entry\, be a judge\, or just ask further questions please contact Lori at&nbsp\;<br />\n&#8203\;425-277-1500 or ljcarter553@gmail.com</span></span></span><br />\n<br />\n* Prizes* * Judges Choice* * Participants Choice* *Raffles*<br />\n&#8203\;<br />\n&#8203\;<span style="font-size:16px\;"><span style="font-family:times new roman\;">Network\, check out the facility\, and have some fun.</span></span></p>\n</div>\n
LOCATION:American Classic Homes 3016 Benson Road South Renton\, WA 98022
UID:e.16.5917
SEQUENCE:3
DTSTAMP:20260424T134353Z
URL:https://chamber.gorenton.com/events/details/business-after-hours-american-classic-homes-chili-cook-off-5917
END:VEVENT

END:VCALENDAR
