BEGIN:VCALENDAR
VERSION:2.0
PRODID:-//ChamberMaster//Event Calendar 2.0//EN
METHOD:PUBLISH
X-PUBLISHED-TTL:P3D
REFRESH-INTERVAL:P3D
CALSCALE:GREGORIAN
BEGIN:VEVENT
DTSTART:20191024T013000Z
DTEND:20191024T030000Z
X-MICROSOFT-CDO-ALLDAYEVENT:FALSE
SUMMARY:Business After Hours- Masquerade theme by Columbia Bank
DESCRIPTION:Save the date!\n\nNetwork with other local businesses and join in for a night of mystery at Columbia Bank's masquerade themed event!\n\n\n\nFood and beverages provided by Rain City Catering.
X-ALT-DESC;FMTTYPE=text/html:Save the date!<br />\nNetwork with other local businesses and join in for a night of mystery at Columbia Bank&#39\;s masquerade themed event!<br />\n<br />\nFood and beverages provided by Rain City Catering.<br />\n&nbsp\;
LOCATION:Columbia Bank Renton Branch 33 SW 7th Street Renton\, WA 98057
UID:e.16.6677
SEQUENCE:3
DTSTAMP:20260423T215733Z
URL:https://chamber.gorenton.com/events/details/business-after-hours-masquerade-theme-by-columbia-bank-6677
END:VEVENT

END:VCALENDAR
