BEGIN:VCALENDAR
VERSION:2.0
PRODID:-//ChamberMaster//Event Calendar 2.0//EN
METHOD:PUBLISH
X-PUBLISHED-TTL:P3D
REFRESH-INTERVAL:P3D
CALSCALE:GREGORIAN
BEGIN:VEVENT
DTSTART:20190822T180000Z
DTEND:20190822T193000Z
X-MICROSOFT-CDO-ALLDAYEVENT:FALSE
SUMMARY:Business Bullpen
DESCRIPTION:The Renton Chamber of Commerce launched a new series called Business Bullpen on Thursday June 27th 11:00am-12:30pm. This series will continue every 4th Thursday of the month for the remainder of 2019.\n\n\n\nThis continuing series will give business owners an opportunity to learn\, network\, pitch ideas\, and collaborate with local businesses. As our community continues to grow\, so do the challenges and opportunities in business development. The goal of this monthly meeting will be to create a forum where local business or community influencers can come together.\n\n\n\n____________________________________________________________________________\n\nFor August we have:\n\n\n\nDean H. Van Dyke\; CEO of The Pillars Group\n\nTopic Title:\n\n     Simple NO COST Strategies That Immediately Increase Sales and Profits!\n\n        There are two things EVERY business owner wants. First\, they want to generate more\n\n        leads\, attract more clients and make more money so they can eliminate any current\n\n        financial distress they find themselves in. Second\, they want to reach $1 million or\n\n        more in annual revenue so they can begin to live the life they have always dreamed of\n\n        having and so richly deserve.\n\n        In this talk Dean H. Van Dyke\, Founder and CEO of The Pillars Group will reveal how to\n\n        apply lead generation strategies to grow your company that will significantly improve\n\n        your ability to generate business.\n\nAbstract:\n\n    Topics covered will include:\n\n        *80/20 Rule\n\n        *The 5-Step Profit Formula\n\n        *The Profit Growth Calculator\n\n        *Conversion Equation\n\n        *Lead Generation Strategies\n\n    Join us for this insightful\, enlightening and entertaining talk. It will change (and improve)\n\n    the way you think of growing your business!\n\nWho would Benefit:\n\n    Business Owners\, Partners\, Principals\, and CXO\n\n\n\nSpeaker Bio:\n\n    Dean is a business and lead generation coach focused on\n\n    growing small businesses. He is the Founder and CEO of The\n\n    Pillars Group.\n\n    His desire is for business owners to discover the "aha" moment\n\n    in their business and achieve great success. The profound impact\n\n    the "aha" moment has on a person and their business is\n\n    tremendous. With over two decades of experience in the\n\n    business world\, Dean's proven track record shows he can make a\n\n    positive impact in the business and non-profit communities.\n\n    Dean is a Certified Lean Six Sigma Black Belt\, holds a bachelor's\n\n    degree in Accounting and a master's degree in Business and\n\n    Project Management. He is a Persian Gulf War disabled veteran\n\n    with 14-years of service on active duty and the reserves.\n\n    He is an active member of his local community by volunteering his time serving on\n\n    various non-profit boards that advocate for veterans.\n\n    His talks are insightful\, inspiring\, entertaining and informative.\n\n\n\n  To Inspire Success Through Patience\, Persistence\, and Pragmatic Approaches to Growing Your Business! \n\n_______________________________________________________________________________________________________________________          \n\nIf you have ideas\, requests\, or interest in helping build out this forum. Please send your ideas along.
X-ALT-DESC;FMTTYPE=text/html:<span style="display: inline !important\; float: none\; background-color: rgb(255\, 255\, 255)\; color: var(--yt-spec-text-primary)\; font-family: Roboto\,Arial\,sans-serif\; font-size: 14px\; font-style: normal\; font-variant: normal\; font-weight: 400\; letter-spacing: normal\; orphans: 2\; text-align: left\; text-decoration: none\; text-indent: 0px\; text-transform: none\; -webkit-text-stroke-width: 0px\; white-space: pre-wrap\; word-spacing: 0px\;"><span style="font-family:arial\;"><span style="font-size:16px\;">The Renton Chamber of Commerce launched a new series called Business Bullpen on Thursday June 27th 11:00am-12:30pm. This series will continue every 4th Thursday of the month for the remainder of 2019.</span></span></span><br />\n<br />\n<span style="color: rgb(68\, 68\, 68)\; font-family: arial\; font-size: 16px\;">This continuing series will give business owners an opportunity to learn\, network\, pitch ideas\, and collaborate with local businesses. As our community continues to grow\, so do the challenges and opportunities in business development. The goal of this monthly meeting will be to create a forum where local business or community influencers can come together.<br />\n<br />\n____________________________________________________________________________<br />\nFor August we have:<br />\n<br />\n<strong>Dean H. Van Dyke\; CEO of </strong></span><span style="font-family: arial\; font-size: 16px\;"><strong><a href="https://tpgbizacademy.com/"><span style="color:#0000FF\;">The Pillars Group</span></a></strong></span><br />\n<span style="color: rgb(68\, 68\, 68)\; font-family: arial\; font-size: 16px\;"><span style="font-size:14px\;">Topic Title:</span></span><br />\n&nbsp\;&nbsp\;&nbsp\;&nbsp\;&nbsp\;<span style="font-size:16px\;"><u>S</u></span><span style="color: rgb(51\, 51\, 51)\; font-family: arial\; font-size: 16px\; background-color: rgb(255\, 255\, 255)\;"><u>imple NO COST Strategies That Immediately Increase Sales and Profits!</u></span><br />\n&nbsp\;&nbsp\;&nbsp\;&nbsp\;&nbsp\;&nbsp\;&nbsp\;&nbsp\;<span style="font-size:14px\;"><span style="font-family:arial\;">There are two things EVERY business owner wants. First\, they want to generate more</span></span><br />\n&nbsp\;&nbsp\;&nbsp\;&nbsp\;&nbsp\;&nbsp\;&nbsp\;&nbsp\;<span style="font-size:14px\;"><span style="font-family:arial\;">leads\, attract more clients and make more money so they can eliminate any current</span></span><br />\n&nbsp\;&nbsp\;&nbsp\;&nbsp\;&nbsp\;&nbsp\;&nbsp\;&nbsp\;<span style="font-size:14px\;"><span style="font-family:arial\;">financial distress they find themselves in. Second\, they want to reach $1 million or</span></span><br />\n&nbsp\;&nbsp\;&nbsp\;&nbsp\;&nbsp\;&nbsp\;&nbsp\;&nbsp\;<span style="font-size:14px\;"><span style="font-family:arial\;">more in annual revenue so they can begin to live the life they have always dreamed of</span></span><br />\n&nbsp\;&nbsp\;&nbsp\;&nbsp\;&nbsp\;&nbsp\;&nbsp\;&nbsp\;<span style="font-size:14px\;"><span style="font-family:arial\;">having and so richly deserve.</span></span><br />\n&nbsp\;&nbsp\;&nbsp\;&nbsp\;&nbsp\;&nbsp\;&nbsp\;&nbsp\;<span style="font-size:14px\;"><span style="font-family:arial\;">In this talk Dean H. Van Dyke\, Founder and CEO of The Pillars Group will reveal how to</span></span><br />\n&nbsp\;&nbsp\;&nbsp\;&nbsp\;&nbsp\;&nbsp\;&nbsp\;&nbsp\;<span style="font-size:14px\;"><span style="font-family:arial\;">apply lead generation strategies to grow your company that will significantly improve</span></span><br />\n&nbsp\;&nbsp\;&nbsp\;&nbsp\;&nbsp\;&nbsp\;&nbsp\;&nbsp\;<span style="font-size:14px\;"><span style="font-family:arial\;">your ability to generate business.<br />\nAbstract:</span></span><br />\n&nbsp\; &nbsp\; <u><span style="font-size:16px\;"><span style="font-family:arial\;">Topics covered will include:</span></span></u><br />\n&nbsp\;&nbsp\;&nbsp\;&nbsp\;&nbsp\;&nbsp\;&nbsp\;&nbsp\;*80/20 Rule<br />\n&nbsp\;&nbsp\;&nbsp\;&nbsp\;&nbsp\; &nbsp\; *The 5-Step Profit Formula<br />\n&nbsp\;&nbsp\;&nbsp\;&nbsp\;&nbsp\; &nbsp\; *The Profit Growth Calculator<br />\n&nbsp\;&nbsp\;&nbsp\;&nbsp\;&nbsp\; &nbsp\; *Conversion Equation<br />\n&nbsp\; &nbsp\;&nbsp\;&nbsp\; &nbsp\; *Lead Generation Strategies<br />\n&nbsp\;&nbsp\;&nbsp\;&nbsp\;Join us for this insightful\, enlightening and entertaining talk. It will change (and improve)<br />\n&nbsp\;&nbsp\;&nbsp\;&nbsp\;the way you think of growing your business!<br />\n<span style="color: rgb(51\, 51\, 51)\; font-family: arial\; font-size: 16px\; background-color: rgb(255\, 255\, 255)\;"><span style="font-size:14px\;">Who would Benefit:</span></span><br />\n&nbsp\;&nbsp\;&nbsp\;&nbsp\;<span style="font-size:16px\;"><span style="font-family:arial\;"><u>Business Owners\, Partners\, Principals\, and CXO</u></span></span><br />\n<br />\n<span style="color: rgb(68\, 68\, 68)\; font-family: arial\; font-size: 16px\;"><u>Speaker Bio:</u></span><br />\n&nbsp\;&nbsp\;&nbsp\;&nbsp\;Dean is a business and lead generation coach focused on<br />\n&nbsp\;&nbsp\;&nbsp\;&nbsp\;growing small businesses. He is the Founder and CEO of The<br />\n&nbsp\;&nbsp\;&nbsp\;&nbsp\;Pillars Group.<br />\n&nbsp\;&nbsp\;&nbsp\;&nbsp\;His desire is for business owners to discover the &quot\;aha&quot\; moment<br />\n&nbsp\;&nbsp\;&nbsp\;&nbsp\;in their business and achieve great success. The profound impact<br />\n&nbsp\;&nbsp\;&nbsp\;&nbsp\;the &ldquo\;aha&rdquo\; moment has on a person and their business is<br />\n&nbsp\;&nbsp\;&nbsp\;&nbsp\;tremendous. With over two decades of experience in the<br />\n&nbsp\;&nbsp\;&nbsp\;&nbsp\;business world\, Dean&rsquo\;s proven track record shows he can make a<br />\n&nbsp\;&nbsp\;&nbsp\;&nbsp\;positive impact in the business and non-profit communities.<br />\n&nbsp\;&nbsp\;&nbsp\;&nbsp\;Dean is a Certified Lean Six Sigma Black Belt\, holds a bachelor&rsquo\;s<br />\n&nbsp\;&nbsp\;&nbsp\;&nbsp\;degree in Accounting and a master&rsquo\;s degree in Business and<br />\n&nbsp\;&nbsp\;&nbsp\;&nbsp\;Project Management. He is a Persian Gulf War disabled veteran<br />\n&nbsp\;&nbsp\;&nbsp\;&nbsp\;with 14-years of service on active duty and the reserves.<br />\n&nbsp\;&nbsp\;&nbsp\;&nbsp\;He is an active member of his local community by volunteering his time serving on<br />\n&nbsp\;&nbsp\;&nbsp\;&nbsp\;various non-profit boards that advocate for veterans.<br />\n&nbsp\;&nbsp\;&nbsp\;&nbsp\;His talks are insightful\, inspiring\, entertaining and informative.<br />\n<br />\n&nbsp\;&nbsp\;<strong><span style="font-size:16px\;"><span style="font-family:arial\;">To Inspire Success Through Patience\, Persistence\, and Pragmatic Approaches to Growing Your Business!</span></span></strong>&nbsp\;<br />\n_______________________________________________________________________________________________________________________&nbsp\;&nbsp\;&nbsp\;&nbsp\;&nbsp\;&nbsp\;&nbsp\;&nbsp\;&nbsp\;&nbsp\;<br />\n<span style="color: rgb(68\, 68\, 68)\; font-family: arial\; font-size: 16px\;">If you have ideas\, requests\, or interest in helping build out this forum. Please send your ideas along.</span>
LOCATION:Renton Chamber of Commerce 625 S 4th St. Renton\, WA 98057
UID:e.16.6568
SEQUENCE:3
DTSTAMP:20260423T232529Z
URL:https://chamber.gorenton.com/events/details/business-bullpen-08-22-2019-6568
END:VEVENT

END:VCALENDAR
