BEGIN:VCALENDAR
VERSION:2.0
PRODID:-//ChamberMaster//Event Calendar 2.0//EN
METHOD:PUBLISH
X-PUBLISHED-TTL:P3D
REFRESH-INTERVAL:P3D
CALSCALE:GREGORIAN
BEGIN:VEVENT
DTSTART:20190926T180000Z
DTEND:20190926T193000Z
X-MICROSOFT-CDO-ALLDAYEVENT:FALSE
SUMMARY:Business Bullpen with HRVue
DESCRIPTION:The Renton Chamber of Commerce launches a new series called Business Bullpen on Thursday June 27th 11:00-12:30pm. This series will continue every 4th Thursday of the month for the remainder of 2019.\n\nThis month we have Julie Shaw from HRVue.\n\nTopic:\nPromote Yourself.\n\nHow to navigate your next salary increase and know your rights in the workplace.\n\n\nBio:\n\nJulie is an accomplished HR Leader with more than 25 years of experience in industries ranging from broadcasting and non-profits to manufacturing\, sales\, and start-ups.\n\nBorn and raised in North Carolina\, Julie is honest and transparent in speaking her mind\, with a dose of southern charm. Don't let her fool you   She brings a firm understanding of the HR. She can walk in to any company and quickly assess its HR needs.\n\nFive years ago\, Julie and her husband\, Don\, relocated to Seattle\, where the Pacific Northwest is her home. The move has only broadened Julie's work portfolio and strengthened her nationally and international HR knowledge. She works anywhere- and will travel to meet clients' needs.\n\nJulie has demonstrated tremendous success in recruiting the right employees for the right roles in the right time-frame. But her expertise extends beyond recruitment and high retention rates. Whether building your recruiting strategy to knowing HR employment law\, she stays current on trends and topics that impact you or your workforce. Educating today's workforce for today's issues is not only critical. It is your responsibility.\n\n"We can't assume people come into a new work environment understanding acceptable workplace behavior and norms. That education starts on the very first day of employment   the most critical day in their employment life-cycle in your company   so make it a good one!" \n\nJulie has experience working with all ages   understands millennials and what resonates with them in the workplace. She believes firmly that the next generation holds our future\, and Senior professionals are our most untapped resource in the workplace.\n\n\n	Graduate of Queens University with a BA Degree in Organizational Communications\n	Holds Certified Professional Human Resources Designation\n	Member of Society of Human Resources\n	Member of World at Work\n	Member of Seattle Society of Human Resources\n\n\n\n\n\n\n\nIf you have ideas\, requests\, or interest in helping build out this forum. Please send your ideas along.
X-ALT-DESC;FMTTYPE=text/html:<span style="display: inline !important\; float: none\; background-color: rgb(255\, 255\, 255)\; color: var(--yt-spec-text-primary)\; font-family: Roboto\,Arial\,sans-serif\; font-size: 14px\; font-style: normal\; font-variant: normal\; font-weight: 400\; letter-spacing: normal\; orphans: 2\; text-align: left\; text-decoration: none\; text-indent: 0px\; text-transform: none\; -webkit-text-stroke-width: 0px\; white-space: pre-wrap\; word-spacing: 0px\;"><span style="font-family:arial\;"><span style="font-size:16px\;">The Renton Chamber of Commerce launches a new series called Business Bullpen on Thursday June 27th 11:00-12:30pm. This series will continue every 4th Thursday of the month for the remainder of 2019.<br />\nThis month we have <strong>Julie Shaw</strong> from </span></span></span><span style="float: none\; background-color: rgb(255\, 255\, 255)\; font-family: Roboto\, Arial\, sans-serif\; font-size: 14px\; font-style: normal\; font-variant: normal\; font-weight: 400\; letter-spacing: normal\; orphans: 2\; text-align: left\; text-decoration: none\; text-indent: 0px\; text-transform: none\; -webkit-text-stroke-width: 0px\; white-space: pre-wrap\; word-spacing: 0px\; display: inline !important\;"><span style="font-family:arial\;"><span style="font-size:16px\;"><span style="font-size:22px\;"><a href="http://hrvuenorthwest.com/"><span style="color:#0000FF\;">HRVue</span></a><span style="color:#0000FF\;">.</span></span></span></span></span><br />\n<span style="display: inline !important\; float: none\; background-color: rgb(255\, 255\, 255)\; color: var(--yt-spec-text-primary)\; font-family: Roboto\,Arial\,sans-serif\; font-size: 14px\; font-style: normal\; font-variant: normal\; font-weight: 400\; letter-spacing: normal\; orphans: 2\; text-align: left\; text-decoration: none\; text-indent: 0px\; text-transform: none\; -webkit-text-stroke-width: 0px\; white-space: pre-wrap\; word-spacing: 0px\;"><span style="font-family:arial\;"><span style="font-size:16px\;">Topic:</span></span></span>\n<div style="text-align: center\;"><span style="color:#0000FF\;"><span style="font-size:20px\;"><span style="font-size:26px\;"><strong><span style="background:white\;"><span style="font-family:monotype corsiva\;">Promote Yourself.</span></span></strong></span><br style="font-variant-ligatures:normal\;font-variant-caps:normal\;orphans:2\;white-space:pre-wrap\;widows:2\;-webkit-text-stroke-width:0px\;text-decoration-style:initial\;word-spacing:0px\;" />\n<span style="font-size:24px\;"><strong><span style="font-family:monotype corsiva\;"><span style="background:white\;"><span style="font-variant-ligatures:normal\;font-variant-caps:normal\;orphans:2\;white-space:pre-wrap\;widows:2\;-webkit-text-stroke-width:0px\;text-decoration-style:initial\;float:none\;word-spacing:0px\;">How to navigate your next salary increase and know your rights in the workplace.</span></span></span></strong></span></span></span></div>\n<br />\n<span style="font-size:16px\;"><span style="font-family:arial\;"><span style="color:#212121\;">Bio:</span><br />\n<span style="color:#212121\;">Julie is an accomplished HR Leader with more than 25 years of experience in industries ranging from broadcasting and non-profits to manufacturing\, sales\, and start-ups.</span><br />\n<span style="color:#212121\;">Born and raised in North Carolina\, Julie is honest and transparent in speaking her mind\, with a dose of southern charm. Don&rsquo\;t let her fool you &ndash\; She brings a firm understanding of the HR. She can walk in to any company and quickly assess its HR needs.</span><br />\n<span style="color:#212121\;">Five years ago\, Julie and her husband\, Don\, relocated to Seattle\, where the Pacific Northwest is her home. The move has only broadened Julie&rsquo\;s work portfolio and strengthened her nationally and international HR knowledge. She works anywhere- and will travel to meet clients&rsquo\; needs.</span><br />\n<span style="color:#212121\;">Julie has demonstrated tremendous success in recruiting the right employees for the right roles in the right time-frame. But her expertise extends beyond recruitment and high retention rates. Whether building your recruiting strategy to knowing HR employment law\, she stays current on trends and topics that impact you or your workforce. Educating today&rsquo\;s workforce for today&rsquo\;s issues is not only critical. It is your responsibility.</span><br />\n<em><span style="border:none windowtext 1.0pt\;padding:0in\;"><span style="color:#212121\;">&ldquo\;We can&rsquo\;t assume people come into a new work environment understanding acceptable workplace behavior and norms. That education starts on the very first day of employment &ndash\; the most critical day in their employment life-cycle in your company &ndash\; so make it a good one!&rdquo\;&nbsp\;</span></span></em><br />\n<span style="color:#212121\;">Julie has experience working with all ages &ndash\; understands millennials and what resonates with them in the workplace. She believes firmly that the next generation holds our future\, and Senior professionals are our most untapped resource in the workplace.</span></span></span>\n\n<ul>\n	<li style="margin-bottom:.0001pt\;vertical-align:baseline\;"><span style="font-size:16px\;"><span style="font-family:arial\;"><span style="color:#212121\;">Graduate of Queens University with a BA Degree in Organizational Communications</span></span></span></li>\n	<li style="margin-bottom:.0001pt\;vertical-align:baseline\;"><span style="font-size:16px\;"><span style="font-family:arial\;"><span style="color:#212121\;">Holds Certified Professional Human Resources Designation</span></span></span></li>\n	<li style="margin-bottom:.0001pt\;vertical-align:baseline\;"><span style="font-size:16px\;"><span style="font-family:arial\;"><span style="color:#212121\;">Member of Society of Human Resources</span></span></span></li>\n	<li style="margin-bottom:.0001pt\;vertical-align:baseline\;"><span style="font-size:16px\;"><span style="font-family:arial\;"><span style="color:#212121\;">Member of World at Work</span></span></span></li>\n	<li style="margin-bottom:.0001pt\;vertical-align:baseline\;"><span style="font-size:16px\;"><span style="font-family:arial\;"><span style="color:#212121\;">Member of Seattle Society of Human Resources</span></span></span></li>\n</ul>\n<br />\n<br />\n<br />\n<span style="color: rgb(68\, 68\, 68)\; font-family: arial\; font-size: 16px\;">If you have ideas\, requests\, or interest in helping build out this forum. Please send your ideas along.</span>
LOCATION:Renton Chamber of Commerce 625 S 4th St. Renton\, WA 98057
UID:e.16.6569
SEQUENCE:3
DTSTAMP:20260423T215534Z
URL:https://chamber.gorenton.com/events/details/business-bullpen-with-hrvue-6569
END:VEVENT

END:VCALENDAR
