BEGIN:VCALENDAR
VERSION:2.0
PRODID:-//ChamberMaster//Event Calendar 2.0//EN
METHOD:PUBLISH
X-PUBLISHED-TTL:P3D
REFRESH-INTERVAL:P3D
CALSCALE:GREGORIAN
BEGIN:VEVENT
DTSTART:20200123T190000Z
DTEND:20200123T203000Z
X-MICROSOFT-CDO-ALLDAYEVENT:FALSE
SUMMARY:Business Bullpen with IYBS Local
DESCRIPTION:The Renton Chamber of Commerce promotes a series called Business Bullpen every 4th Thursday every month.\n\n\nFor January we have: IYBS Local \n\n \n.\n\n\n\n\n\nWHY MARKETING FAILS\n\nAre Your Marketing Campaigns Sucking Up Your Money\n\nand just Not Delivering Your Desired Results?\n\nThere's a better way to take control of\n\nwhat happens when you pull the lever!\n\nCome to The "Renton Chamber Business BullPen" and\n\nLearn how to build the foundation for a Dynamic Marketing Strategy\n\nthat delivers measurable results.\n\n \n\nThis continuing series will give business owners an opportunity to learn\, network\, pitch ideas\, and collaborate with local businesses. As our community continues to grow\, so do the challenges and opportunities in business development. The goal of this monthly meeting will be to create a forum where local business or community influencers can come together.\n\n\n\nIf you have ideas\, requests\, or interest in helping build out this forum. Please send your ideas along
X-ALT-DESC;FMTTYPE=text/html:<span style="display: inline !important\; float: none\; background-color: rgb(255\, 255\, 255)\; color: var(--yt-spec-text-primary)\; font-family: Roboto\,Arial\,sans-serif\; font-size: 14px\; font-style: normal\; font-variant: normal\; font-weight: 400\; letter-spacing: normal\; orphans: 2\; text-align: left\; text-decoration: none\; text-indent: 0px\; text-transform: none\; -webkit-text-stroke-width: 0px\; white-space: pre-wrap\; word-spacing: 0px\;"><span style="font-family:arial\;"><span style="font-size:16px\;">The Renton Chamber of Commerce promotes a series called Business Bullpen every 4th Thursday every month.</span></span></span>\n<div style="text-align: center\;"><br />\n<span style="display: inline !important\; float: none\; background-color: rgb(255\, 255\, 255)\; color: var(--yt-spec-text-primary)\; font-family: Roboto\,Arial\,sans-serif\; font-size: 14px\; font-style: normal\; font-variant: normal\; font-weight: 400\; letter-spacing: normal\; orphans: 2\; text-align: left\; text-decoration: none\; text-indent: 0px\; text-transform: none\; -webkit-text-stroke-width: 0px\; white-space: pre-wrap\; word-spacing: 0px\;"><span style="font-family:arial\;"><span style="font-size:16px\;"><strong>For January we have: IYBS Local </strong></span></span></span><br />\n&nbsp\;</div>\n.<iframe allow="accelerometer\; autoplay\; encrypted-media\; gyroscope\; picture-in-picture" allowfullscreen="" frameborder="0" height="315" src="https://www.youtube.com/embed/Y0r4Q-YcPRc" width="560"></iframe>\n\n<div style="text-align: center\;"><br />\n<br />\n<span style="font-size:14px\;"><span style="font-family:arial\;"><span style="font-size:16px\;"><strong>WHY MARKETING FAILS</strong><br />\nAre Your Marketing Campaigns Sucking Up Your Money<br />\nand just Not Delivering Your Desired Results?<br />\nThere&rsquo\;s a better way to take control of<br />\nwhat happens when you pull the lever!<br />\nCome to The <strong>&ldquo\;Renton Chamber Business BullPen&rdquo\;</strong> and<br />\nLearn how to build the foundation for a Dynamic Marketing Strategy<br />\nthat delivers measurable results.</span></span></span></div>\n\n<div>&nbsp\;</div>\n\n<hr /><span style="color: rgb(68\, 68\, 68)\; font-family: arial\; font-size: 16px\;">This continuing series will give business owners an opportunity to learn\, network\, pitch ideas\, and collaborate with local businesses. As our community continues to grow\, so do the challenges and opportunities in business development. The goal of this monthly meeting will be to create a forum where local business or community influencers can come together.<br />\n<br />\nIf you have ideas\, requests\, or interest in helping build out this forum. Please send your ideas along</span><br />\n&nbsp\;
LOCATION:Renton Chamber of Commerce 625 S 4th St. Renton\, WA 98057
UID:e.16.6729
SEQUENCE:3
DTSTAMP:20260423T162310Z
URL:https://chamber.gorenton.com/events/details/business-bullpen-with-iybs-local-6729
END:VEVENT

END:VCALENDAR
