BEGIN:VCALENDAR
VERSION:2.0
PRODID:-//ChamberMaster//Event Calendar 2.0//EN
METHOD:PUBLISH
X-PUBLISHED-TTL:P3D
REFRESH-INTERVAL:P3D
CALSCALE:GREGORIAN
BEGIN:VEVENT
DTSTART:20191024T180000Z
DTEND:20191024T190000Z
X-MICROSOFT-CDO-ALLDAYEVENT:FALSE
SUMMARY:Business Bullpen with Paulson Exchange
DESCRIPTION:The Renton Chamber of Commerce launches a new series called Business Bullpen. This series will continue every 4th Thursday of the month for the remainder of 2019.\n\nThis month we present Paulson Exchange.\n\nAnd the topic is:\nHow to Buy a Business \n\nWe work with investors and entrepreneurs to help discover and evaluate many great businesses available to buy  and grow.  Let us know your buying criteria.  P|E will work with private investors or family funds to identify precise criteria for acquisitions and will scout those categories for opportunities.\n\n \nBuying a business is a big decision in assessing your preferences\, talents\, and ability to press on with the business even in tough times.  Picture the lifestyle that you can sustain. Think about what you can afford.  Look into businesses roughly in the price range of 10% cash down.  If you don?t have 5-10% it might be difficult to get into that business without special circumstances. \n\n\n\nBe sure to assemble a team of personalities to help as your sounding board.  Include those that push the gas pedal (yes\, go!) and others who will help you brake (no\, stop!).  If you put just one or the other on your team\, you might make impulsive decision or end up with analysis paralysis.  \n\n\n\nDetermine how you?ll learn to run the business and keep in mind that the employees will likely stay with the business and you can learn from them and the owner.\n\n \n\nPace yourself. Sometimes evaluating too many businesses at once is like sniffing too much perfume- you need to cleanse your palette\, so keep your objective Selection Criteria in front of you to stay the course:
X-ALT-DESC;FMTTYPE=text/html:<span style="font-size:14px\;"><span style="float: none\; background-color: rgb(255\, 255\, 255)\; color: var(--yt-spec-text-primary)\; font-family: Roboto\, Arial\, sans-serif\; font-style: normal\; font-variant: normal\; font-weight: 400\; letter-spacing: normal\; orphans: 2\; text-align: left\; text-decoration: none\; text-indent: 0px\; text-transform: none\; -webkit-text-stroke-width: 0px\; white-space: pre-wrap\; word-spacing: 0px\; display: inline !important\;"><span style="font-family:arial\;">The Renton Chamber of Commerce launches a new series called Business Bullpen. This series will continue every 4th Thursday of the month for the remainder of 2019.<br>\nThis month we present Paulson Exchange.<br>\nAnd the topic is:</span></span></span>\n<div style="text-align: center\;"><span style="font-size:14px\;"><strong><span style="font-size:16px\;"><span style="float: none\; background-color: rgb(255\, 255\, 255)\; color: var(--yt-spec-text-primary)\; font-family: Roboto\, Arial\, sans-serif\; font-style: normal\; font-variant: normal\; font-weight: 400\; letter-spacing: normal\; orphans: 2\; text-align: left\; text-decoration: none\; text-indent: 0px\; text-transform: none\; -webkit-text-stroke-width: 0px\; white-space: pre-wrap\; word-spacing: 0px\; display: inline !important\;"><span style="font-family:arial\;">How to Buy a Business </span></span></span></strong></span></div>\n\n<div><span style="font-size:14px\;"><span style="font-family:arial\;">We work with investors and entrepreneurs to help discover and evaluate many great businesses available to buy&nbsp\; and grow.&nbsp\; Let us know your buying criteria.&nbsp\; P|E will work with private investors or family funds to identify precise criteria for acquisitions and will scout those categories for opportunities.</span></span><br>\n&nbsp\;</div>\n<span style="font-size:14px\;">Buying a business is a big decision in assessing your preferences\, talents\, and ability to press on with the business even in tough times.&nbsp\; Picture the lifestyle that you can sustain. Think about what you can afford.&nbsp\; Look into businesses roughly in the price range of 10% cash down.&nbsp\; If you don?t have 5-10% it might be difficult to get into that business without special circumstances.&nbsp\;<br>\n<br>\nBe sure to assemble a team of personalities to help as your sounding board.&nbsp\; Include those that push the gas pedal (yes\, go!) and others who will help you brake (no\, stop!).&nbsp\; If you put just one or the other on your team\, you might make impulsive decision or end up with analysis paralysis.&nbsp\;&nbsp\;<br>\n<br>\nDetermine how you?ll learn to run the business and keep in mind that the employees will likely stay with the business and you can learn from them and the owner.<br>\n&nbsp\;<br>\n<span style="font-family:arial\;">Pace yourself. Sometimes evaluating too many businesses at once is like sniffing too much perfume- you need to cleanse your palette\, so keep your objective Selection Criteria in front of you to stay the course:&nbsp\;&nbsp\;</span></span>
LOCATION:Renton Chamber of Commerce 625 S 4th St. Renton\, WA 98057
UID:e.16.6570
SEQUENCE:3
DTSTAMP:20260423T215534Z
URL:https://chamber.gorenton.com/events/details/business-bullpen-with-paulson-exchange-6570
END:VEVENT

END:VCALENDAR
