BEGIN:VCALENDAR
VERSION:2.0
PRODID:-//ChamberMaster//Event Calendar 2.0//EN
METHOD:PUBLISH
X-PUBLISHED-TTL:P3D
REFRESH-INTERVAL:P3D
CALSCALE:GREGORIAN
BEGIN:VEVENT
DTSTART:20200228T070000Z
DTEND:20200227T203000Z
X-MICROSOFT-CDO-ALLDAYEVENT:FALSE
SUMMARY:Business Bullpen with Rob Wachter: Performance Coach
DESCRIPTION:Do you have a desire to "get to the next level" in your business or career\, but sense that something is holding you back?\n\n \n\nYou might be surprised to learn that better processes and negotiating techniques are not the primary reasons why most entrepreneurs aren't more successful. Like many business leaders around the world it's how we think that limits our potential the most.\n\n \n\nWe all have hidden and often deep-rooted thinking patterns that sabotage our ability to achieve next-level results. Until we uncover those patterns in our own lives we will remain stuck.\n\n \n\nWe are excited to welcome Rob Wachter\, Certified Performance Coach for Business\, Leadership & Life\, as our keynote speaker. Rob is the former chief marketing officer for a company that saw $6B in annual sales volume during his tenure. His journey from marketing executive to performance coach\, offers entrepreneurs and independent thinkers an unparalleled opportunity to truly unleash their full potential.\n\n \n\nAt this event you will learn three common success-destroyers that hold most entrepreneurs back.\n\n \n\n	Learn how most people play the wrong game in their pursuit towards achievement.\n	Learn how most people turn their greatest asset into their worst liability.\n	Learn how good intentions limit most people from their full potential.\n\n \n\nDon't miss this opportunity to see things from a totally different perspective and learn how to reach your maximum potential.
X-ALT-DESC;FMTTYPE=text/html:<strong><span style="font-family:arial\,sans-serif\;"><span style="font-size:12.0pt\;">Do you have a desire to &ldquo\;get to the next level&rdquo\; in your business or career\, but sense that something is holding you back?</span></span></strong><br />\n&nbsp\;<br />\n<span style="font-family:arial\,sans-serif\;"><span style="font-size:12.0pt\;">You might be surprised to learn that better processes and negotiating techniques are not the primary reasons why most entrepreneurs aren&rsquo\;t more successful. Like many business leaders around the world&mdash\;it&rsquo\;s how we think that limits our potential the most.</span></span><br />\n&nbsp\;<br />\n<span style="font-family:arial\,sans-serif\;"><span style="font-size:12.0pt\;">We all have hidden and often deep-rooted thinking patterns that sabotage our ability to achieve next-level results. Until we uncover those patterns in our own lives&mdash\;we will remain stuck.</span></span><br />\n&nbsp\;<br />\n<span style="font-family:arial\,sans-serif\;"><span style="font-size:12.0pt\;">We are excited to welcome <strong>Rob Wachter\, Certified Performance Coach for Business\, Leadership &amp\; Life</strong>\, as our keynote speaker. Rob is the former chief marketing officer for a company that saw $6B in annual sales volume during his tenure. His journey from marketing executive to <a href="https://infinitypossible.com/" target="_blank">performance coach</a>\, offers entrepreneurs and independent thinkers an unparalleled opportunity to truly unleash their full potential.</span></span><br />\n&nbsp\;<br />\n<span style="font-family:arial\,sans-serif\;"><span style="font-size:12.0pt\;">At this event you will learn three common success-destroyers that hold most entrepreneurs back.</span></span><br />\n&nbsp\;\n<ol>\n	<li style="margin-top:0in\;margin-bottom:0in\;margin-bottom:.0001pt\;"><span style="font-family:arial\,sans-serif\;"><span style="font-size:12.0pt\;">Learn how most people play the wrong game in their pursuit towards achievement.</span></span></li>\n	<li style="margin-top:0in\;margin-bottom:0in\;margin-bottom:.0001pt\;"><span style="font-family:arial\,sans-serif\;"><span style="font-size:12.0pt\;">Learn how most people turn their greatest asset into their worst liability.</span></span></li>\n	<li style="margin-top:0in\;margin-bottom:0in\;margin-bottom:.0001pt\;"><span style="font-family:arial\,sans-serif\;"><span style="font-size:12.0pt\;">Learn how good intentions limit most people from their full potential.</span></span></li>\n</ol>\n&nbsp\;<br />\n<span style="font-family:arial\,sans-serif\;"><span style="font-size:12.0pt\;">Don&rsquo\;t miss this opportunity to see things from a totally different perspective and learn how to reach your maximum potential.</span></span>
LOCATION:Renton Chamber of Commerce 625 S. 4th St. Renton\, WA 98057
UID:e.16.6754
SEQUENCE:3
DTSTAMP:20260423T160333Z
URL:https://chamber.gorenton.com/events/details/business-bullpen-with-rob-wachter-performance-coach-6754
END:VEVENT

END:VCALENDAR
