BEGIN:VCALENDAR
VERSION:2.0
PRODID:-//ChamberMaster//Event Calendar 2.0//EN
METHOD:PUBLISH
X-PUBLISHED-TTL:P3D
REFRESH-INTERVAL:P3D
CALSCALE:GREGORIAN
BEGIN:VEVENT
DTSTART:20200827T180000Z
DTEND:20200827T193000Z
X-MICROSOFT-CDO-ALLDAYEVENT:FALSE
SUMMARY:Business Bullpen: with Ty Reed - Recovery Career Coach
DESCRIPTION:Join Recovery Career Coach Ty Reed as he shares practical tips on how employers can diversity their employee base in a relatively low-risk way.
X-ALT-DESC;FMTTYPE=text/html:Join Recovery Career Coach Ty Reed as he shares practical tips on how employers can diversity their employee base in a relatively low-risk way.
LOCATION:Register in advance for this meeting: https://us02web.zoom.us/meeting/register/tZ0ucu-gqTIqG9A3i_1dJbkz17vOFqolUron After registering\, you will receive a confirmation email containing information about joining the meeting.
UID:e.16.7004
SEQUENCE:3
DTSTAMP:20260421T052826Z
URL:https://chamber.gorenton.com/events/details/business-bullpen-with-ty-reed-recovery-career-coach-7004
END:VEVENT

END:VCALENDAR
