BEGIN:VCALENDAR
VERSION:2.0
PRODID:-//ChamberMaster//Event Calendar 2.0//EN
METHOD:PUBLISH
X-PUBLISHED-TTL:P3D
REFRESH-INTERVAL:P3D
CALSCALE:GREGORIAN
BEGIN:VEVENT
DTSTART:20191127T180000Z
DTEND:20191127T220000Z
X-MICROSOFT-CDO-ALLDAYEVENT:FALSE
SUMMARY:Business Coaching Office Hours: Business Impact NW
DESCRIPTION:Are you thinking of starting a business?\n	Do you already have a business but want it to grow?\n	Are you facing a business puzzle that you'd like help with?\n	Need money for your business\, but don't know where to start?\n\n\nJoin us for free drop-in Business Coaching Days every other Wednesday from 10am to 2pm.\n\nReserved times are available\, visit www.calendly.com/kerriec to reserve a time for general business coaching. Visit www.calendly.com/chloet for financial advising\, including loan readiness\, financial projection feedback\, and funding resources. \n\nLocation: Renton Chamber of Commerce and Visitor Center\, 625 S 4th Street Renton\, WA  98057\n\nQuestions? Email kerriec@businessimpactnworg.
X-ALT-DESC;FMTTYPE=text/html:<ul>\n	<li><em>Are you thinking of starting a business?</em></li>\n	<li><em>Do you already have a business but want it to grow?</em></li>\n	<li><em>Are you facing a business puzzle that you&rsquo\;d like help with?</em></li>\n	<li><em>Need money for your business\, but don&#39\;t know where to start?</em></li>\n</ul>\n\n<p>Join us for free drop-in&nbsp\;<strong>Business Coaching Days</strong>&nbsp\;every other Wednesday from 10am to 2pm.<br />\nReserved times are available\, visit&nbsp\;<a href="http://www.calendly.com/kerriec">www.calendly.com/kerriec</a>&nbsp\;to reserve a time for general business coaching. Visit&nbsp\;<a href="http://www.calendly.com/chloet">www.calendly.com/chloet</a>&nbsp\;for financial advising\, including loan readiness\, financial projection feedback\, and funding resources.&nbsp\;</p>\n\n<p>Location: Renton Chamber of Commerce and Visitor Center\, 625 S 4<span style="font-size:9.75px">th</span>&nbsp\;Street Renton\, WA&nbsp\; 98057</p>\n\n<p>Questions? Email&nbsp\;<a href="mailto:kerriec@businessimpactnworg.?subject=Question%20about%20Renton%20Drop-in%20Business%20Coaching%20Hours">kerriec@businessimpactnworg.</a>&nbsp\;</p>\n
LOCATION:Renton Chamber of Commerce and Visitor Center\, 625 S 4th Street Renton\, WA 98057
UID:e.16.6509
SEQUENCE:3
DTSTAMP:20260423T185959Z
URL:https://chamber.gorenton.com/events/details/business-coaching-office-hours-business-impact-nw-11-27-2019-6509
END:VEVENT

END:VCALENDAR
