BEGIN:VCALENDAR
VERSION:2.0
PRODID:-//ChamberMaster//Event Calendar 2.0//EN
METHOD:PUBLISH
X-PUBLISHED-TTL:P3D
REFRESH-INTERVAL:P3D
CALSCALE:GREGORIAN
BEGIN:VEVENT
DTSTART:20180801T153000Z
DTEND:20180801T163000Z
X-MICROSOFT-CDO-ALLDAYEVENT:FALSE
SUMMARY:Business Development Committee Meeting
DESCRIPTION:This is a meeting of the Business Development Committee. The committee is comprised of key decision makers from industry leading companies around the City of Renton and who are also Chamber Members. This meeting will be held on the 2nd Tuesday of each month. The location will be determined prior to each meeting in order to allow the committee to meet at various locations and businesses throughout the City of Renton.
X-ALT-DESC;FMTTYPE=text/html:<span style="font-family: arial\;"><span style="font-size: 12pt\;">This is a meeting of the Business Development Committee. The committee is comprised of key decision makers from industry leading companies around the City of Renton and who are also Chamber Members. This meeting will be held on the 2nd Tuesday of each month. The location will be determined prior to each meeting in order to allow the committee to meet at various locations and businesses throughout the City of Renton.</span></span><br />\n<br />\n&nbsp\;
LOCATION:First Financial Northwest Bank Community Room 201 Wells Ave. S. Renton\, WA 98057
UID:e.16.5792
SEQUENCE:3
DTSTAMP:20260424T170532Z
URL:https://chamber.gorenton.com/events/details/business-development-committee-meeting-07-10-2018-5792
END:VEVENT

END:VCALENDAR
