BEGIN:VCALENDAR
VERSION:2.0
PRODID:-//ChamberMaster//Event Calendar 2.0//EN
METHOD:PUBLISH
X-PUBLISHED-TTL:P3D
REFRESH-INTERVAL:P3D
CALSCALE:GREGORIAN
BEGIN:VEVENT
DTSTART:20191008T153000Z
DTEND:20191008T170000Z
X-MICROSOFT-CDO-ALLDAYEVENT:FALSE
SUMMARY:Business Development Committee Meeting
DESCRIPTION:This is a meeting of the Business Development Committee. The committee is comprised of key decision makers from industry leading companies around the City of Renton and who are also Chamber Members. \n\n\n\nToday's guest speaker will be Paul Nordsletten\n\nTopic:\n\nTop Mistakes that Land Employers in Court   and How to Avoid Them.\n\n \n\nPaul Nordsletten is an management-side employment lawyer. For over 20 years\, he has defended companies of all sizes against employee lawsuits. He will teach you the most important steps employers must take to prevent being sued by employees.
X-ALT-DESC;FMTTYPE=text/html:<p><span style="font-size:14px\;">This is a meeting of the Business Development Committee. The committee is comprised of key decision makers from industry leading companies around the City of Renton and who are also Chamber Members.&nbsp\;<br />\n<br />\n<span style="float: none\; background-color: transparent\; color: rgb(75\, 79\, 86)\; font-style: normal\; font-variant: normal\; font-weight: 400\; letter-spacing: normal\; orphans: 2\; text-align: left\; text-decoration: none\; text-indent: 0px\; text-transform: none\; -webkit-text-stroke-width: 0px\; white-space: normal\; word-spacing: 0px\; display: inline !important\;">Today&#39\;s guest speaker will be Paul Nordsletten</span><br />\nTopic:<br style="background-color: transparent\; color: rgb(75\, 79\, 86)\; font-family: Helvetica\,Arial\,sans-serif\; font-size: 14px\; font-style: normal\; font-variant: normal\; font-weight: 400\; letter-spacing: normal\; orphans: 2\; text-align: left\; text-decoration: none\; text-indent: 0px\; text-transform: none\; -webkit-text-stroke-width: 0px\; white-space: normal\; word-spacing: 0px\;" />\nTop Mistakes that Land Employers in Court &hellip\; and How to Avoid Them.<br />\n&nbsp\;<br />\nPaul Nordsletten is an management-side employment lawyer. For over 20 years\, he has defended companies of all sizes against employee lawsuits. He will teach you the most important steps employers must take to prevent being sued by employees.&nbsp\;</span></p>\n
LOCATION:Renton Chamber of Commerce 625 S. 4th St. Renton\, WA 98057
UID:e.16.5797
SEQUENCE:3
DTSTAMP:20260423T203445Z
URL:https://chamber.gorenton.com/events/details/business-development-committee-meeting-10-08-2019-5797
END:VEVENT

END:VCALENDAR
