BEGIN:VCALENDAR
VERSION:2.0
PRODID:-//ChamberMaster//Event Calendar 2.0//EN
METHOD:PUBLISH
X-PUBLISHED-TTL:P3D
REFRESH-INTERVAL:P3D
CALSCALE:GREGORIAN
BEGIN:VEVENT
DTSTART:20181101T153000Z
DTEND:20181101T163000Z
X-MICROSOFT-CDO-ALLDAYEVENT:FALSE
SUMMARY:Business Development Committee Meeting - Attention: HR Managers
DESCRIPTION:This is a meeting of the Business Development Committee. The committee is comprised of key decision makers from industry leading companies around the City of Renton and who are also Chamber Members. Held quarterly. The location will normally be at downtown's First Financial Northwest Bank unless otherwise noted.\n\n\n\nToday's Topic:  Paid Family and Sick Leave Laws.\n\n                              \n\n\n\nTitle: Washington's Paid Family and Medical Leave Program: Getting Employers Ready for 2019\n \n\nSummary:\n\nWashington will be the 5th state to offer paid family and medical leave benefits starting in 2020\, but employers can take action by 2019.  Get a jump on 2019 and learn how your business can prepare to implement this mandatory program in this free presentation by the Washington State Employment Security Department.\n\nLearning Objectives\n\n-          Learn the employee benefits of WA's Paid Family and Medical Leave Program\n\n-          Learn the employer requirements of the program\n\n-          Learn how this program interacts with FMLA\n\n-          Learn the roll out timeline and how you can prepare your business\n\n \n\nPresenter Bio:\n\nMatt LaPalm is the Small Business Specialist in the Paid Family and Medical Leave team at the Employment Security Department. With a background in small and medium businesses\, he understands how challenging running a business can be and how this new statewide insurance program will impact Washington's small and independent employers.
X-ALT-DESC;FMTTYPE=text/html:<span style="font-size:14px\;"><span style="font-family:arial\;">This is a meeting of the Business Development Committee. The committee is comprised of key decision makers from industry leading companies around the City of Renton and who are also Chamber Members. Held quarterly. The location will normally be at downtown&#39\;s First Financial Northwest Bank unless otherwise noted.<br />\n<br />\n<span style="float: none\; background-color: transparent\; color: rgb(75\, 79\, 86)\; font-style: normal\; font-variant: normal\; font-weight: 400\; letter-spacing: normal\; orphans: 2\; text-align: left\; text-decoration: none\; text-indent: 0px\; text-transform: none\; -webkit-text-stroke-width: 0px\; white-space: normal\; word-spacing: 0px\; display: inline !important\;">Today&#39\;s&nbsp\;</span><span style="color: rgb(33\, 33\, 33)\;">Topic:&nbsp\; Paid Family and Sick Leave Laws.</span><br />\n&nbsp\;&nbsp\;&nbsp\;&nbsp\;&nbsp\;&nbsp\;&nbsp\;&nbsp\;&nbsp\;&nbsp\;&nbsp\;&nbsp\;&nbsp\;&nbsp\;&nbsp\;&nbsp\;&nbsp\;&nbsp\;&nbsp\;&nbsp\;&nbsp\;&nbsp\;&nbsp\; &nbsp\; &nbsp\; &nbsp\;&nbsp\;<br />\n<br />\n<font color="#000000"><strong>Title</strong>: Washington&rsquo\;s Paid Family and Medical Leave Program: Getting Employers Ready for 2019</font></span></span>\n<p style="margin: 0px 0px 0px 48px\;"><span style="font-size:14px\;"><span style="font-family:arial\;"><font color="#000000">&nbsp\;<br />\n<strong>Summary:</strong></font></span></span></p>\n\n<p style="margin: 0px 0px 0px 48px\;"><span style="font-size:14px\;"><span style="font-family:arial\;"><font color="#000000">Washington will be the 5<sup>th</sup> state to offer paid family and medical leave benefits starting in 2020\, but employers can take action&nbsp\;by&nbsp\;2019.&nbsp\; Get a jump on 2019 and learn how your business can prepare to implement this mandatory program in this free presentation by the Washington State Employment Security Department.</font></span></span></p>\n\n<p style="margin: 0px 0px 0px 48px\;"><span style="font-size:14px\;"><span style="font-family:arial\;"><font color="#000000">Learning Objectives</font></span></span></p>\n\n<p style="margin: 0px 0px 0px 96px\;"><span style="font-size:14px\;"><span style="font-family:arial\;"><font color="#000000">-<span style="margin: 0px\;">&nbsp\;&nbsp\;&nbsp\;&nbsp\;&nbsp\;&nbsp\;&nbsp\;&nbsp\;&nbsp\; </span>Learn the employee benefits of WA&rsquo\;s Paid Family and Medical Leave </font><span style="color:#000000\;">Program</span></span></span></p>\n\n<p style="margin: 0px 0px 0px 96px\;"><span style="font-size:14px\;"><span style="font-family:arial\;"><font color="#000000">-<span style="margin: 0px\;">&nbsp\;&nbsp\;&nbsp\;&nbsp\;&nbsp\;&nbsp\;&nbsp\;&nbsp\;&nbsp\; </span>Learn the employer requirements of the program</font></span></span></p>\n\n<p style="margin: 0px 0px 0px 96px\;"><span style="font-size:14px\;"><span style="font-family:arial\;"><font color="#000000">-<span style="margin: 0px\;">&nbsp\;&nbsp\;&nbsp\;&nbsp\;&nbsp\;&nbsp\;&nbsp\;&nbsp\;&nbsp\; </span>Learn how this program interacts with FMLA</font></span></span></p>\n\n<p style="margin: 0px 0px 0px 96px\;"><span style="font-size:14px\;"><span style="font-family:arial\;"><font color="#000000">-<span style="margin: 0px\;">&nbsp\;&nbsp\;&nbsp\;&nbsp\;&nbsp\;&nbsp\;&nbsp\;&nbsp\;&nbsp\; </span>Learn the roll out timeline and how you can prepare your business</font></span></span><br />\n&nbsp\;</p>\n\n<p style="margin: 0px 0px 0px 48px\;"><span style="font-size:14px\;"><span style="font-family:arial\;"><span style="float: none\; background-color: transparent\; color: rgb(0\, 0\, 0)\; cursor: text\; font-style: normal\; font-variant: normal\; font-weight: 400\; letter-spacing: normal\; line-height: 25.6px\; orphans: 2\; text-align: left\; text-decoration: none\; text-indent: 0px\; text-transform: none\; -webkit-text-stroke-width: 0px\; white-space: normal\; word-spacing: 0px\; display: inline !important\;"><strong>Presenter Bio:</strong></span><br />\n<font color="#000000">Matt LaPalm is the Small Business Specialist in the Paid Family and Medical Leave team at the Employment Security Department. With a background in small and medium businesses\, he understands how challenging running a business can be and how this new statewide insurance program will impact Washington&rsquo\;s small and independent employers.</font></span></span></p>\n
LOCATION:First Financial Northwest Bank Community Room 201 Wells Ave. S. Renton\, WA 98057
UID:e.16.5888
SEQUENCE:3
DTSTAMP:20260424T123852Z
URL:https://chamber.gorenton.com/events/details/business-development-committee-meeting-attention-hr-managers-5888
END:VEVENT

END:VCALENDAR
