BEGIN:VCALENDAR
VERSION:2.0
PRODID:-//ChamberMaster//Event Calendar 2.0//EN
METHOD:PUBLISH
X-PUBLISHED-TTL:P3D
REFRESH-INTERVAL:P3D
CALSCALE:GREGORIAN
BEGIN:VEVENT
DTSTART:20211209T193000Z
DTEND:20211209T210000Z
X-MICROSOFT-CDO-ALLDAYEVENT:FALSE
SUMMARY:Business Expert Session: Angel Investment for Start-Ups
DESCRIPTION:A high-level presentation on options for funding your startup or new business from the angel investor viewpoint.\n\nThis presentation will cover:\n\n\n	What is angel investment? How is it different from other funding options?\n	Common myths\n	What Angel Investors are looking for\n	Is it the best funding option for your business?\n	Pros and cons of having an Angel Investor\n\n\n \n\nAbout the presenter: \n\nRoy Hsu' is a Financial Advisor and Angel investor. His career began in the arts\, where he realized early on the importance of understanding finances to pursue passion projects. That led him to a career to span the industries of advertising\, startups\, photography\, and finance. He began in NYC with the dotcoms of the late '90s to become a creative director and digital strategist. He founded the digital department\, was instrumental as one of the new business leads\, and grew the department to be the largest digital department in Havas Health.\n\nDuring his time in NYC\, Roy has consulted private equity\, ran a photography business\, and was president of a global photography trade organization. Roy left NYC 5 years ago to pursue other interests and is now a personal financial advisor\, angel investor\, and mentor to entrepreneurs. Roy has spoken around the city at groups like the MIT Forum\, Freelancers Union\, Lean Startup\, and more. He likes to give back by guest lectures at various local universities and is an active volunteer within the diversity and inclusion world.
X-ALT-DESC;FMTTYPE=text/html:<p>A high-level presentation on options for funding your startup or new business from the angel investor viewpoint.</p>\n\n<p>This presentation will cover:</p>\n\n<ul>\n	<li>What is angel investment? How is it different from other funding options?</li>\n	<li>Common myths</li>\n	<li>What Angel Investors are looking for</li>\n	<li>Is it the best funding option for your business?</li>\n	<li>Pros and cons of having an Angel Investor</li>\n</ul>\n\n<p>&nbsp\;</p>\n\n<p><strong>About the presenter:&nbsp\;</strong></p>\n\n<p>Roy Hsu&rsquo\; is a Financial Advisor and Angel investor. His career began in the arts\, where he realized early on the importance of understanding finances to pursue passion projects. That led him to a career to span the industries of advertising\, startups\, photography\, and finance. He began in NYC with the dotcoms of the late &rsquo\;90s to become a creative director and digital strategist. He founded the digital department\, was instrumental as one of the new business leads\, and grew the department to be the largest digital department in Havas Health.</p>\n\n<p>During his time in NYC\, Roy has consulted private equity\, ran a photography business\, and was president of a global photography trade organization. Roy left NYC 5 years ago to pursue other interests and is now a personal financial advisor\, angel investor\, and mentor to entrepreneurs. Roy has spoken around the city at groups like the MIT Forum\, Freelancers Union\, Lean Startup\, and more. He likes to give back by guest lectures at various local universities and is an active volunteer within the diversity and inclusion world.</p>\n
LOCATION:Online via the Zoom platform.
UID:e.16.9068
SEQUENCE:3
DTSTAMP:20260420T074104Z
URL:https://chamber.gorenton.com/events/details/business-expert-session-angel-investment-for-start-ups-9068
END:VEVENT

END:VCALENDAR
