BEGIN:VCALENDAR
VERSION:2.0
PRODID:-//ChamberMaster//Event Calendar 2.0//EN
METHOD:PUBLISH
X-PUBLISHED-TTL:P3D
REFRESH-INTERVAL:P3D
CALSCALE:GREGORIAN
BEGIN:VEVENT
DTSTART:20180828T170000Z
DTEND:20180828T190000Z
X-MICROSOFT-CDO-ALLDAYEVENT:FALSE
SUMMARY:Business & Higher Education Roundtable\, Renton Technical College
DESCRIPTION:Join state legislators\, business leaders and the presidents of Green River\, Highline and Renton Technical Colleges for a roundtable discussion about creating a growth agenda for jobs\, skills and opportunities in higher education.
X-ALT-DESC;FMTTYPE=text/html:Join state legislators\, business leaders and the presidents of Green River\, Highline and Renton Technical Colleges for a roundtable discussion about creating a growth agenda for jobs\, skills and opportunities in higher education.<br />\n&nbsp\;
LOCATION:Renton Technical College Campus Center I Building 3000 NE 4th St. Renton\, WA 98056
UID:e.16.5872
SEQUENCE:3
DTSTAMP:20260424T170456Z
URL:https://chamber.gorenton.com/events/details/business-higher-education-roundtable-renton-technical-college-5872
END:VEVENT

END:VCALENDAR
