BEGIN:VCALENDAR
VERSION:2.0
PRODID:-//ChamberMaster//Event Calendar 2.0//EN
METHOD:PUBLISH
X-PUBLISHED-TTL:P3D
REFRESH-INTERVAL:P3D
CALSCALE:GREGORIAN
BEGIN:VEVENT
DTSTART;VALUE=DATE:20200307
DTEND;VALUE=DATE:20200308
TRANSP:TRANSPARENT
X-MICROSOFT-CDO-ALLDAYEVENT:TRUE
SUMMARY:Business Impact Northwest - Food Biz Day
DESCRIPTION:Food Biz Day is a daylong event focused on providing insight\, education\, and networking for food entrepreneurs. The day will be a combination of speakers\, breakouts\, and panel discussions followed by a food entrepreneur's marketplace where newbies can table their products alongside more seasoned food business owners.
X-ALT-DESC;FMTTYPE=text/html:Food Biz Day is a daylong event focused on providing insight\, education\, and networking for food entrepreneurs. The day will be a combination of speakers\, breakouts\, and panel discussions followed by a food entrepreneur&rsquo\;s marketplace where newbies can table their products alongside more seasoned food business owners.
LOCATION:Highline College Student Union Building 2400 S. 240th St. Des Moines\, WA 98198
UID:e.16.6766
SEQUENCE:3
DTSTAMP:20260423T131425Z
URL:https://chamber.gorenton.com/events/details/business-impact-northwest-food-biz-day-6766
END:VEVENT

END:VCALENDAR
