BEGIN:VCALENDAR
VERSION:2.0
PRODID:-//ChamberMaster//Event Calendar 2.0//EN
METHOD:PUBLISH
X-PUBLISHED-TTL:P3D
REFRESH-INTERVAL:P3D
CALSCALE:GREGORIAN
BEGIN:VEVENT
DTSTART:20190319T193000Z
DTEND:20190319T210000Z
X-MICROSOFT-CDO-ALLDAYEVENT:FALSE
SUMMARY:Buying\, Financing & Growing an Existing\, Profitable Business
DESCRIPTION:You can own your own business! You are among many who have dreamed of owning their own business. With today's opportunities and financing options\, that reality is closer than you think. 85% of all privately-owned businesses are owned by retiring baby boomers\, so the opportunities to buy an existing\, profitable business have never been greater. Coupled with an assortment of flexible financing options you can own an existing\, profitable business\, even while you work elsewhere. The employees\, brand\, location\, processes\, and customers stay with the company you buy. LUNCH sponsored by KeyBank
X-ALT-DESC;FMTTYPE=text/html:You can own your own business! You are among many who have dreamed of owning their own business. With today&rsquo\;s opportunities and financing options\, that reality is closer than you think. 85% of all privately-owned businesses are owned by retiring baby boomers\, so the opportunities to buy an existing\, profitable business have never been greater. Coupled with an assortment of flexible financing options you can own an existing\, profitable business\, even while you work elsewhere. The employees\, brand\, location\, processes\, and customers stay with the company you buy. LUNCH sponsored by KeyBank
LOCATION:Newport Library 14250 SE Newport Way Bellevue\, WA 98006
UID:e.16.6253
SEQUENCE:3
DTSTAMP:20260424T065835Z
URL:https://chamber.gorenton.com/events/details/buying-financing-growing-an-existing-profitable-business-6253
END:VEVENT

END:VCALENDAR
