BEGIN:VCALENDAR
VERSION:2.0
PRODID:-//ChamberMaster//Event Calendar 2.0//EN
METHOD:PUBLISH
X-PUBLISHED-TTL:P3D
REFRESH-INTERVAL:P3D
CALSCALE:GREGORIAN
BEGIN:VEVENT
DTSTART:20210721T180000Z
DTEND:20210721T220000Z
X-MICROSOFT-CDO-ALLDAYEVENT:FALSE
SUMMARY:C. Davis BBQ - special appearance with KJ Wright!
DESCRIPTION:Join Seattle Seahawk KJ Wright for lunch at the Renton Chamber of Commerce!  \n\n\n\nC. Davis Texas BBQ is Washington's favorite BBQ! Proudly\, Seattle Seahawks exclusive BBQ vendor! They have perfected the art of smoking real authentic BBQ\, by way of Texas. All wood and rubs are shipped up from Texas. Some grass feed meats are smoked up to 22 hours and they handmake their sausage and hot links.\n\n\n\nMenu items are varied from event to event and can include: 22 hour smoked brisket\, 12 hour smoked beef ribs\, 5 hour smoked tri tip\, 12 hour smoked pulled pork\, 10 hour smoked spareribs\, 6 hour smoked jerk chicken\, handmade sausages\, hot dogs\, corn dogs\, fried catfish\, fried pork chops\, and smoked or grilled salmon. \n\n\n\nPlus all of your favorite sides: loaded baked beans\, smoked mac &cheese\, waffle fries\, mashed potatoes\, vegetables\, corn on the cob\, coleslaw and many more!\n\n\n\nFood will be for sale from 11a - 3p\n\nWednesday\, July 21st\n\n\n\nFilming for the feature on C. Davis Texas BBQ feature on Evening Magazine will start at noon.\n\n\n\nFOOD IS NOT FREE-EVENT IS FREE. FOOD SUBJECT TO MENU PRICES.
X-ALT-DESC;FMTTYPE=text/html:Join Seattle Seahawk KJ Wright for lunch at the Renton Chamber of Commerce!&nbsp\;&nbsp\;<br />\n<br />\nC. Davis Texas BBQ is Washington&rsquo\;s favorite BBQ! Proudly\, Seattle Seahawks exclusive BBQ vendor! They have perfected the art of smoking real authentic BBQ\, by way of Texas. All wood and rubs are shipped up from Texas. Some grass feed meats are smoked up to 22 hours and they handmake their sausage and hot links.<br />\n<br />\nMenu items are varied from event to event and can include: 22 hour smoked brisket\, 12 hour smoked beef ribs\, 5 hour smoked tri tip\, 12 hour smoked pulled pork\, 10 hour smoked spareribs\, 6 hour smoked jerk chicken\, handmade sausages\, hot dogs\, corn dogs\, fried catfish\, fried pork chops\, and smoked or grilled salmon.&nbsp\;<br />\n<br />\nPlus all of your favorite sides: loaded baked beans\, smoked mac &amp\;cheese\, waffle fries\, mashed potatoes\, vegetables\, corn on the cob\, coleslaw and many more!<br />\n<br />\nFood will be for sale from 11a - 3p<br />\nWednesday\, July 21st<br />\n<br />\nFilming for the feature on C. Davis Texas BBQ feature on Evening Magazine will start at noon.<br />\n<br />\nFOOD IS NOT FREE-EVENT IS FREE. FOOD SUBJECT TO MENU PRICES.
LOCATION:Renton Chamber of Commerce 625 S 4th Street\, Renton\, WA 98057
UID:e.16.8245
SEQUENCE:3
DTSTAMP:20260420T144154Z
URL:https://chamber.gorenton.com/events/details/c-davis-bbq-special-appearance-with-kj-wright-8245
END:VEVENT

END:VCALENDAR
