BEGIN:VCALENDAR
VERSION:2.0
PRODID:-//ChamberMaster//Event Calendar 2.0//EN
METHOD:PUBLISH
X-PUBLISHED-TTL:P3D
REFRESH-INTERVAL:P3D
CALSCALE:GREGORIAN
BEGIN:VEVENT
DTSTART:20181220T160000Z
DTEND:20181220T170000Z
X-MICROSOFT-CDO-ALLDAYEVENT:FALSE
SUMMARY:-Cancelled- Board of Directors Meeting
DESCRIPTION:This meeting has been cancelled.\n\nRenton Chamber Board of Directors meeting
X-ALT-DESC;FMTTYPE=text/html:This meeting has been cancelled.<br />\n<s><span style="background:white\;"><span style="color:#333333\;"><span style="font-family:arial\,sans-serif\;"><span style="font-size:10.0pt\;">Renton Chamber Board of Directors meeting</span></span></span></span></s>
LOCATION:Meets at the chamber office unless otherwise noted.
UID:e.16.2597
SEQUENCE:3
DTSTAMP:20260424T110218Z
URL:https://chamber.gorenton.com/events/details/cancelled-board-of-directors-meeting-12-20-2018-2597
END:VEVENT

END:VCALENDAR
