BEGIN:VCALENDAR
VERSION:2.0
PRODID:-//ChamberMaster//Event Calendar 2.0//EN
METHOD:PUBLISH
X-PUBLISHED-TTL:P3D
REFRESH-INTERVAL:P3D
CALSCALE:GREGORIAN
BEGIN:VEVENT
DTSTART:20260225T010000Z
DTEND:20260225T020000Z
X-MICROSOFT-CDO-ALLDAYEVENT:FALSE
SUMMARY:Capital Conviction Webinar: AI\, Careers\, and Capital | Navigating Risk\, Optionality\, and Long-Term Positioning
DESCRIPTION:About this Webinar:\n\nCapital Conviction is hosted by Finomenon Investments. This webinar is an enduring series designed to feature capital allocators\, founders\, operators\, service providers\, and investors\, who deploy capital with discipline\, purpose\, and long-term vision. Each guest or speaker brings high conviction\, customer obsession\, and operational experience through their own work product.\n\n \n\nAI\, Careers\, and Capital | Navigating Risk\, Optionality\, and Long-Term Positioning\n\nAI has become the dominant narrative shaping technology markets\, corporate strategy\, and professional careers. Capital is being deployed at unprecedented speed\, expectations are rising quickly\, and innovation cycles are compressing   often faster than fundamentals can catch up.\n\nFor high-earning tech professionals\, this creates a unique challenge: career risk\, equity exposure\, and personal capital are increasingly tied to the same ecosystem.\n\nThis session explores how to think clearly in that environment without relying on predictions\, hype\, or short-term narratives.\n\n \n\nWhy This Matters\n\nPeriods of rapid technological change tend to amplify both opportunity and risk. While AI presents meaningful upside\, it also introduces new forms of concentration risk\, mispriced expectations\, and second-order effects that are easy to overlook in real time.\n\nLong-term outcomes are rarely driven by perfect forecasts. They are shaped by how individuals manage exposure\, preserve optionality\, and stay disciplined when narratives move faster than underlying value creation. This conversation is about developing that discipline.\n\n \n\nWhat You Will Learn\n\nThis session offers a fact-based discussion on how AI-driven hype cycles\, uneven adoption\, and rapid innovation intersect with career durability\, equity compensation\, and long-term capital decisions for technology professionals. You'll develop clearer frameworks for distinguishing durability from optionality\, understanding how rising capital intensity\, infrastructure investment\, and uncertain enterprise ROI can affect employer stability and sector risk\, and recognizing where over-concentration quietly builds when career\, compensation\, and personal capital are all tied to the same ecosystem. We'll explore how to stay disciplined as narratives move faster than fundamentals\, and how to remain adaptable through potential expectation resets without relying on forecasts\, timing\, or specific investment prescriptions. The goal is to leave you with stronger mental models for navigating uncertainty   not predictions\, and not a list of things to buy.\n\n \n\n***\n\nDisclaimer\n\nFinomenon Investments is a Registered Investment Adviser. The information shared in this webinar is strictly for educational purposes. No content here constitutes a solicitation\, recommendation\, or endorsement of any investment\, and no fees\, commissions\, or third-party incentives are received in relation to this program. Please consult a qualified advisor before making investment decisions.
X-ALT-DESC;FMTTYPE=text/html:<div>\n<p><strong>About this Webinar:</strong><br />\n<em>Capital Conviction</em> is hosted by <a href="https://finomenon.us/" title="https://finomenon.us/">Finomenon Investments</a>. This webinar is an enduring series designed to feature capital allocators\, founders\, operators\, service providers\, and investors\, who deploy capital with discipline\, purpose\, and long-term vision. Each guest or speaker brings high conviction\, customer obsession\, and operational experience through their own work product.</p>\n\n<p>&nbsp\;</p>\n\n<p><strong>AI\, Careers\, and Capital | Navigating Risk\, Optionality\, and Long-Term Positioning</strong></p>\n\n<p>AI has become the dominant narrative shaping technology markets\, corporate strategy\, and professional careers. Capital is being deployed at unprecedented speed\, expectations are rising quickly\, and innovation cycles are compressing &mdash\; often faster than fundamentals can catch up.</p>\n\n<p>For high-earning tech professionals\, this creates a unique challenge: career risk\, equity exposure\, and personal capital are increasingly tied to the same ecosystem.</p>\n\n<p>This session explores how to think clearly in that environment without relying on predictions\, hype\, or short-term narratives.</p>\n\n<p>&nbsp\;</p>\n\n<p><strong>Why This Matters</strong></p>\n\n<p>Periods of rapid technological change tend to amplify both opportunity and risk. While AI presents meaningful upside\, it also introduces new forms of concentration risk\, mispriced expectations\, and second-order effects that are easy to overlook in real time.</p>\n\n<p>Long-term outcomes are rarely driven by perfect forecasts. They are shaped by how individuals manage exposure\, preserve optionality\, and stay disciplined when narratives move faster than underlying value creation. This conversation is about developing that discipline.</p>\n\n<p>&nbsp\;</p>\n\n<p><strong>What You Will Learn</strong></p>\n\n<p>This session offers a fact-based discussion on how AI-driven hype cycles\, uneven adoption\, and rapid innovation intersect with career durability\, equity compensation\, and long-term capital decisions for technology professionals. You&rsquo\;ll develop clearer frameworks for distinguishing durability from optionality\, understanding how rising capital intensity\, infrastructure investment\, and uncertain enterprise ROI can affect employer stability and sector risk\, and recognizing where over-concentration quietly builds when career\, compensation\, and personal capital are all tied to the same ecosystem. We&rsquo\;ll explore how to stay disciplined as narratives move faster than fundamentals\, and how to remain adaptable through potential expectation resets without relying on forecasts\, timing\, or specific investment prescriptions. The goal is to leave you with stronger mental models for navigating uncertainty &mdash\; not predictions\, and not a list of things to buy.</p>\n\n<p>&nbsp\;</p>\n\n<p>***</p>\n\n<p><strong>Disclaimer</strong><br />\nFinomenon Investments is a Registered Investment Adviser. The information shared in this webinar is strictly for educational purposes. No content here constitutes a solicitation\, recommendation\, or endorsement of any investment\, and no fees\, commissions\, or third-party incentives are received in relation to this program. Please consult a qualified advisor before making investment decisions.</p>\n</div>\n
LOCATION:https://events.teams.microsoft.com/event/e93df730-c2fd-4533-9079-5dc7e8adede6@51c4e93d-a4b4-4af5-b8d1-daa35a4ae18d
UID:e.16.32035
SEQUENCE:3
DTSTAMP:20260425T235730Z
URL:https://chamber.gorenton.com/events/details/capital-conviction-webinar-ai-careers-and-capital-navigating-risk-optionality-and-long-term-positioning-32035
END:VEVENT

END:VCALENDAR
