BEGIN:VCALENDAR
VERSION:2.0
PRODID:-//ChamberMaster//Event Calendar 2.0//EN
METHOD:PUBLISH
X-PUBLISHED-TTL:P3D
REFRESH-INTERVAL:P3D
CALSCALE:GREGORIAN
BEGIN:VEVENT
DTSTART:20220514T190000Z
DTEND:20220514T220000Z
X-MICROSOFT-CDO-ALLDAYEVENT:FALSE
SUMMARY:Car Cruise-In & Career Showcase
DESCRIPTION:Car Cruise-In & Career Showcase   noon to 3 pm\, at Renton Technical College\n\nClassic\, high-tech\, high=end and all-around fabulous display of cars for every taste at RTC's state-of-the-art Automotive Complex\n\n	         FREE to everyone\n	         Food trucks\, fun giveaways and drawings\n	         Learn more about career training programs with RTC\n\nRegister here: https://foundation.rtc.edu/2022-student-success-celebration
X-ALT-DESC;FMTTYPE=text/html:<strong><span style="color:#98002E">Car Cruise-In &amp\; Career Showcase</span></strong> &ndash\; noon to 3 pm\, at Renton Technical College<br />\nClassic\, high-tech\, high=end and all-around fabulous display of cars for every taste at RTC&rsquo\;s state-of-the-art Automotive Complex\n<ul>\n	<li>&nbsp\;&nbsp\;&nbsp\;&nbsp\;&nbsp\;&nbsp\;&nbsp\;&nbsp\; FREE to everyone</li>\n	<li>&nbsp\;&nbsp\;&nbsp\;&nbsp\;&nbsp\;&nbsp\;&nbsp\;&nbsp\; Food trucks\, fun giveaways and drawings</li>\n	<li>&nbsp\;&nbsp\;&nbsp\;&nbsp\;&nbsp\;&nbsp\;&nbsp\;&nbsp\; Learn more about career training programs with RTC</li>\n</ul>\nRegister here: <span style="font-family:times new roman\,serif"><span style="font-size:12.0pt"><a href="https://nam04.safelinks.protection.outlook.com/?url=https%3A%2F%2Ffoundation.rtc.edu%2F2022-student-success-celebration&amp\;data=04%7C01%7Ctwoods%40rtc.edu%7C38cb5c89039142211c5908d9fca9af3b%7C567e9a91fca340289835889234d03726%7C0%7C0%7C637818628144338824%7CUnknown%7CTWFpbGZsb3d8eyJWIjoiMC4wLjAwMDAiLCJQIjoiV2luMzIiLCJBTiI6Ik1haWwiLCJXVCI6Mn0%3D%7C2000&amp\;sdata=XSDfFLPsM%2FF6Hxx7OUzu4ZHadUewBqSkOXFoHTqgnY0%3D&amp\;reserved=0">https://foundation.rtc.edu/2022-student-success-celebration</a> </span></span>
LOCATION:At Renton Technical College 3000 NE 4th Street Renton\, WA 98056
UID:e.16.11424
SEQUENCE:3
DTSTAMP:20260420T003154Z
URL:https://chamber.gorenton.com/events/details/car-cruise-in-career-showcase-11424
END:VEVENT

END:VCALENDAR
