BEGIN:VCALENDAR
VERSION:2.0
PRODID:-//ChamberMaster//Event Calendar 2.0//EN
METHOD:PUBLISH
X-PUBLISHED-TTL:P3D
REFRESH-INTERVAL:P3D
CALSCALE:GREGORIAN
BEGIN:VEVENT
DTSTART:20260425T160000Z
DTEND:20260425T230000Z
X-MICROSOFT-CDO-ALLDAYEVENT:FALSE
SUMMARY:Cascade Neighborhood Garage Sale with Legendary Doughnuts
DESCRIPTION:Join us for the first annual Cascade Neighborhood Garage Sale\, bringing together local families\, small sellers\, and a variety of unique finds across one of Renton's largest neighborhoods. You'll find everything from traditional garage sales to homemade bakery treats\, kid-run lemonade stands\, and more making this a fun\, community-driven event for all ages.\n\nStart your day by checking in at Cascade Park\, grab a latte and a fresh donut from Legendary Doughnuts\, and plan your route with our interactive Google map featuring all participating garage sale locations.\n\nWhether you're hunting for deals\, clearing out your own space\, or just looking for a fun way to spend the day\, this event is all about community\, connection\, and a little bit of everything in between.
X-ALT-DESC;FMTTYPE=text/html:<p>Join us for the first annual Cascade Neighborhood Garage Sale\, bringing together local families\, small sellers\, and a variety of unique finds across one of Renton&rsquo\;s largest neighborhoods. You&rsquo\;ll find everything from traditional garage sales to homemade bakery treats\, kid-run lemonade stands\, and more making this a fun\, community-driven event for all ages.</p>\n\n<p>Start your day by checking in at Cascade Park\, grab a latte and a fresh donut from Legendary Doughnuts\, and plan your route with our interactive Google map featuring all participating garage sale locations.</p>\n\n<p>Whether you&#39\;re hunting for deals\, clearing out your own space\, or just looking for a fun way to spend the day\, this event is all about community\, connection\, and a little bit of everything in between.</p>\n
LOCATION:
UID:e.16.32716
SEQUENCE:3
DTSTAMP:20260423T202500Z
URL:https://chamber.gorenton.com/events/details/cascade-neighborhood-garage-sale-with-legendary-doughnuts-32716
END:VEVENT

END:VCALENDAR
