BEGIN:VCALENDAR
VERSION:2.0
PRODID:-//ChamberMaster//Event Calendar 2.0//EN
METHOD:PUBLISH
X-PUBLISHED-TTL:P3D
REFRESH-INTERVAL:P3D
CALSCALE:GREGORIAN
BEGIN:VEVENT
DTSTART:20230211T200000Z
DTEND:20230212T000000Z
X-MICROSOFT-CDO-ALLDAYEVENT:FALSE
SUMMARY:Celebrate Drum Roll Wine's 5th Anniversary
DESCRIPTION:Drum Roll Wine is celebrating its 5th anniversary at Rain City Market\, Saturday\, February 11th from 12-4 pm.\n\nWe are celebrating with $1 wine tastings\, door prizes (for the first 50 customers)\, plus a Valentine's Day wine deal! \n\n\n\nAll ages are welcome with delicious food available at the market's cafe.
X-ALT-DESC;FMTTYPE=text/html:&nbsp\;Drum Roll Wine is celebrating its 5th anniversary at Rain City Market\, Saturday\, February 11th from 12-4 pm.<br />\nWe are celebrating with $1 wine tastings\, door prizes (for the&nbsp\;first 50 customers)\, plus a Valentine&#39\;s Day wine deal!&nbsp\;<br />\n<br />\nAll ages are welcome with delicious food available at the market&#39\;s cafe.&nbsp\;<br />\n<br />\n&nbsp\;
LOCATION:700 S 3rd St\, Renton\, WA 98057
UID:e.16.14334
SEQUENCE:3
DTSTAMP:20260419T124046Z
URL:https://chamber.gorenton.com/events/details/celebrate-drum-roll-wine-s-5-year-anniversary-14334
END:VEVENT

END:VCALENDAR
