BEGIN:VCALENDAR
VERSION:2.0
PRODID:-//ChamberMaster//Event Calendar 2.0//EN
METHOD:PUBLISH
X-PUBLISHED-TTL:P3D
REFRESH-INTERVAL:P3D
CALSCALE:GREGORIAN
BEGIN:VEVENT
DTSTART:20180824T000000Z
DTEND:20180824T020000Z
X-MICROSOFT-CDO-ALLDAYEVENT:FALSE
SUMMARY:Chamber After Hours - Denali Federal Credit Union
DESCRIPTION:Join the Renton & Kent Chamber of Commerce for a joint Business After Hours  - 2 great Chamber double the networking opportunities as we celebrate the merger between Denali and NuVision Federal Credit Unions.  Leaders of both financial institutions will be on hand to talk about this exciting opportunity for the institutions as they expand and bring on  line more branches and services for members.  \n\n\n\n About the Business After Hours: Enjoy networking in a fun and relaxed environment.  Held at a variety of Chamber member businesses\, these evening receptions are a great place to meet fellow professionals.  After Hours events are always professionally catered\, August will be catered by Cater 4 You.  Beer and wine will be provided\, we have great prizes and a chance to learn about our host location.
X-ALT-DESC;FMTTYPE=text/html:<div id="mn-event-details-wrapper" style="box-sizing: content-box\; margin: 0px\; padding: 0px\; border: none\; font-variant-numeric: inherit\; font-variant-east-asian: inherit\; font-stretch: inherit\; font-size: 16px\; line-height: inherit\; font-family: &quot\;PT Sans&quot\;\, Arial\, Helvetica\, sans-serif\; vertical-align: baseline\; bottom: auto\; clear: none\; color: rgb(68\, 68\, 68)\; content: normal\; direction: inherit\; empty-cells: show\; float: left\; left: auto\; max-height: none\; max-width: 40%\; min-height: initial\; min-width: initial\; opacity: 1\; outline-offset: 0px\; overflow: visible\; position: static\; resize: none\; right: auto\; table-layout: auto\; text-overflow: clip\; top: auto\; visibility: inherit\; word-break: inherit\; word-wrap: inherit\; z-index: auto\; background-image: none\; background-position: initial\; background-size: initial\; background-repeat: initial\; background-attachment: initial\; background-origin: initial\; background-clip: initial\; border-collapse: separate\; border-radius: 0px\; height: auto\; width: auto\; box-shadow: none\;">\n<div class="mn-event-section mn-event-name" style="box-sizing: content-box\; margin: 0px 0px 16px\; padding: 0px\; border: none\; font: inherit\; vertical-align: baseline\; bottom: auto\; clear: none\; color: inherit\; content: normal\; direction: inherit\; empty-cells: show\; float: none\; left: auto\; letter-spacing: inherit\; max-height: none\; max-width: none\; min-height: initial\; min-width: initial\; opacity: 1\; outline-offset: 0px\; overflow: visible\; position: static\; resize: none\; right: auto\; table-layout: auto\; text-align: inherit\; text-indent: inherit\; text-overflow: clip\; text-transform: inherit\; top: auto\; visibility: inherit\; white-space: inherit\; word-break: inherit\; word-spacing: inherit\; word-wrap: inherit\; z-index: auto\; background: none\; border-collapse: separate\; border-radius: 0px\; height: auto\; width: auto\; box-shadow: none\;">&nbsp\;</div>\n</div>\n\n<div class="mn-event-section mn-event-desc" style="box-sizing: content-box\; margin: 16px 0px\; padding: 0px\; border: none\; font-variant-numeric: inherit\; font-variant-east-asian: inherit\; font-stretch: inherit\; font-size: 16px\; line-height: inherit\; font-family: &quot\;PT Sans&quot\;\, Arial\, Helvetica\, sans-serif\; vertical-align: baseline\; bottom: auto\; clear: both\; color: rgb(68\, 68\, 68)\; content: normal\; direction: inherit\; empty-cells: show\; float: none\; left: auto\; max-height: none\; max-width: none\; min-height: initial\; min-width: initial\; opacity: 1\; outline-offset: 0px\; overflow: visible\; position: static\; resize: none\; right: auto\; table-layout: auto\; text-overflow: clip\; top: auto\; visibility: inherit\; word-break: inherit\; word-wrap: inherit\; z-index: auto\; background-image: none\; background-position: initial\; background-size: initial\; background-repeat: initial\; background-attachment: initial\; background-origin: initial\; background-clip: initial\; border-collapse: separate\; border-radius: 0px\; height: auto\; width: auto\; box-shadow: none\;">\n<div class="mn-event-content" style="box-sizing: content-box\; margin: 0px\; padding: 0px\; border: none\; font: inherit\; vertical-align: baseline\; bottom: auto\; clear: none\; color: inherit\; content: normal\; direction: inherit\; empty-cells: show\; float: none\; left: auto\; letter-spacing: inherit\; max-height: none\; max-width: none\; min-height: initial\; min-width: initial\; opacity: 1\; outline-offset: 0px\; overflow: visible\; position: static\; resize: none\; right: auto\; table-layout: auto\; text-align: inherit\; text-indent: inherit\; text-overflow: clip\; text-transform: inherit\; top: auto\; visibility: inherit\; white-space: inherit\; word-break: inherit\; word-spacing: inherit\; word-wrap: inherit\; z-index: auto\; background: none\; border-collapse: separate\; border-radius: 0px\; height: auto\; width: auto\; box-shadow: none\;">\n<div class="mn-raw mn-print-url" itemprop="description" style="box-sizing: content-box\; margin: 0px\; padding: 0px\; border: none\; font-style: inherit\; font-variant: inherit\; font-weight: inherit\; font-stretch: inherit\; font-size: inherit\; line-height: 1.3\; font-family: inherit\; vertical-align: baseline\; bottom: auto\; clear: none\; color: inherit\; content: normal\; direction: inherit\; empty-cells: show\; float: none\; left: auto\; letter-spacing: inherit\; max-height: none\; max-width: none\; min-height: initial\; min-width: initial\; opacity: 1\; outline-offset: 0px\; overflow: visible\; position: static\; resize: none\; right: auto\; table-layout: auto\; text-align: inherit\; text-indent: inherit\; text-overflow: clip\; text-transform: inherit\; top: auto\; visibility: inherit\; white-space: inherit\; word-break: inherit\; word-spacing: inherit\; word-wrap: inherit\; z-index: auto\; background: none\; border-collapse: separate\; border-radius: 0px\; height: auto\; width: auto\; box-shadow: none\;"><span style="box-sizing: content-box\; margin: 0px\; padding: 0px\; border: none\; font-style: inherit\; font-variant: inherit\; font-weight: bold\; font-stretch: inherit\; font-size: inherit\; line-height: inherit\; font-family: inherit\; vertical-align: baseline\; bottom: auto\; clear: none\; color: inherit\; content: normal\; direction: inherit\; empty-cells: show\; left: auto\; letter-spacing: inherit\; max-height: none\; max-width: none\; min-height: initial\; min-width: initial\; opacity: 1\; outline-offset: 0px\; overflow: visible\; position: static\; resize: none\; right: auto\; table-layout: auto\; text-align: inherit\; text-indent: inherit\; text-overflow: clip\; text-transform: inherit\; top: auto\; visibility: inherit\; white-space: inherit\; word-break: inherit\; word-spacing: inherit\; word-wrap: inherit\; z-index: auto\; background: none\; border-collapse: separate\; border-radius: 0px\; height: auto\; width: auto\; box-shadow: none\;"><span style="box-sizing: content-box\; margin: 0px\; padding: 0px\; border: none\; font-style: inherit\; font-variant: inherit\; font-weight: inherit\; font-stretch: inherit\; font-size: inherit\; line-height: inherit\; font-family: &quot\;baskerville old face&quot\;\; vertical-align: baseline\; bottom: auto\; clear: none\; color: inherit\; content: normal\; direction: inherit\; empty-cells: show\; left: auto\; letter-spacing: inherit\; max-height: none\; max-width: none\; min-height: initial\; min-width: initial\; opacity: 1\; outline-offset: 0px\; overflow: visible\; position: static\; resize: none\; right: auto\; table-layout: auto\; text-align: inherit\; text-indent: inherit\; text-overflow: clip\; text-transform: inherit\; top: auto\; visibility: inherit\; white-space: inherit\; word-break: inherit\; word-spacing: inherit\; word-wrap: inherit\; z-index: auto\; background: none\; border-collapse: separate\; border-radius: 0px\; height: auto\; width: auto\; box-shadow: none\;">Join the Renton &amp\; Kent Chamber of Commerce for a joint Business After Hours&nbsp\; - 2 great Chamber double the networking opportunities&mdash\;as we celebrate the merger between Denali and NuVision Federal Credit Unions.&nbsp\; Leaders of both financial institutions will be on hand to talk about this exciting opportunity for the institutions as they expand and bring on&nbsp\; line more branches and services for members.&nbsp\;&nbsp\;</span></span><br />\n<br style="box-sizing: content-box\; bottom: auto\; clear: none\; color: inherit\; content: normal\; direction: inherit\; display: inline\; empty-cells: show\; float: none\; font: inherit\; left: auto\; letter-spacing: inherit\; margin: 0px\; max-height: none\; max-width: none\; min-height: initial\; min-width: initial\; opacity: 1\; outline-offset: 0px\; overflow: visible\; padding: 0px\; position: static\; resize: none\; right: auto\; table-layout: auto\; text-align: inherit\; text-indent: inherit\; text-overflow: clip\; text-transform: inherit\; top: auto\; vertical-align: baseline\; visibility: inherit\; white-space: inherit\; word-break: inherit\; word-spacing: inherit\; word-wrap: inherit\; z-index: auto\; background: none\; border: none\; border-collapse: separate\; border-radius: 0px\; height: auto\; width: auto\;" />\n&nbsp\;<span style="box-sizing: content-box\; margin: 0px\; padding: 0px\; border: none\; font-style: inherit\; font-variant: inherit\; font-weight: bold\; font-stretch: inherit\; font-size: inherit\; line-height: inherit\; font-family: inherit\; vertical-align: baseline\; bottom: auto\; clear: none\; color: inherit\; content: normal\; direction: inherit\; empty-cells: show\; left: auto\; letter-spacing: inherit\; max-height: none\; max-width: none\; min-height: initial\; min-width: initial\; opacity: 1\; outline-offset: 0px\; overflow: visible\; position: static\; resize: none\; right: auto\; table-layout: auto\; text-align: inherit\; text-indent: inherit\; text-overflow: clip\; text-transform: inherit\; top: auto\; visibility: inherit\; white-space: inherit\; word-break: inherit\; word-spacing: inherit\; word-wrap: inherit\; z-index: auto\; background: none\; border-collapse: separate\; border-radius: 0px\; height: auto\; width: auto\; box-shadow: none\;"><span style="box-sizing: content-box\; margin: 0px\; padding: 0px\; border: none\; font-style: inherit\; font-variant: inherit\; font-weight: inherit\; font-stretch: inherit\; font-size: inherit\; line-height: inherit\; font-family: &quot\;times new roman&quot\;\; vertical-align: baseline\; bottom: auto\; clear: none\; color: inherit\; content: normal\; direction: inherit\; empty-cells: show\; left: auto\; letter-spacing: inherit\; max-height: none\; max-width: none\; min-height: initial\; min-width: initial\; opacity: 1\; outline-offset: 0px\; overflow: visible\; position: static\; resize: none\; right: auto\; table-layout: auto\; text-align: inherit\; text-indent: inherit\; text-overflow: clip\; text-transform: inherit\; top: auto\; visibility: inherit\; white-space: inherit\; word-break: inherit\; word-spacing: inherit\; word-wrap: inherit\; z-index: auto\; background: none\; border-collapse: separate\; border-radius: 0px\; height: auto\; width: auto\; box-shadow: none\;"><span style="box-sizing: content-box\; margin: 0px\; padding: 0px\; border: none\; font-style: inherit\; font-variant: inherit\; font-weight: inherit\; font-stretch: inherit\; font-size: 15pt\; line-height: inherit\; font-family: inherit\; vertical-align: baseline\; bottom: auto\; clear: none\; color: inherit\; content: normal\; direction: inherit\; empty-cells: show\; left: auto\; letter-spacing: inherit\; max-height: none\; max-width: none\; min-height: initial\; min-width: initial\; opacity: 1\; outline-offset: 0px\; overflow: visible\; position: static\; resize: none\; right: auto\; table-layout: auto\; text-align: inherit\; text-indent: inherit\; text-overflow: clip\; text-transform: inherit\; top: auto\; visibility: inherit\; white-space: inherit\; word-break: inherit\; word-spacing: inherit\; word-wrap: inherit\; z-index: auto\; background: none\; border-collapse: separate\; border-radius: 0px\; height: auto\; width: auto\; box-shadow: none\;">About the Business After Hours:</span></span></span><span style="box-sizing: content-box\; margin: 0px\; padding: 0px\; border: none\; font: inherit\; vertical-align: baseline\; bottom: auto\; clear: none\; color: inherit\; content: normal\; direction: inherit\; empty-cells: show\; left: auto\; letter-spacing: inherit\; max-height: none\; max-width: none\; min-height: initial\; min-width: initial\; opacity: 1\; outline-offset: 0px\; overflow: visible\; position: static\; resize: none\; right: auto\; table-layout: auto\; text-align: inherit\; text-indent: inherit\; text-overflow: clip\; text-transform: inherit\; top: auto\; visibility: inherit\; white-space: inherit\; word-break: inherit\; word-spacing: inherit\; word-wrap: inherit\; z-index: auto\; background: none\; border-collapse: separate\; border-radius: 0px\; height: auto\; width: auto\; box-shadow: none\;"><span style="box-sizing: content-box\; margin: 0px\; padding: 0px\; border: none\; font-style: inherit\; font-variant: inherit\; font-weight: inherit\; font-stretch: inherit\; font-size: inherit\; line-height: inherit\; font-family: &quot\;times new roman&quot\;\; vertical-align: baseline\; bottom: auto\; clear: none\; color: inherit\; content: normal\; direction: inherit\; empty-cells: show\; left: auto\; letter-spacing: inherit\; max-height: none\; max-width: none\; min-height: initial\; min-width: initial\; opacity: 1\; outline-offset: 0px\; overflow: visible\; position: static\; resize: none\; right: auto\; table-layout: auto\; text-align: inherit\; text-indent: inherit\; text-overflow: clip\; text-transform: inherit\; top: auto\; visibility: inherit\; white-space: inherit\; word-break: inherit\; word-spacing: inherit\; word-wrap: inherit\; z-index: auto\; background: none\; border-collapse: separate\; border-radius: 0px\; height: auto\; width: auto\; box-shadow: none\;"><span style="box-sizing: content-box\; margin: 0px\; padding: 0px\; border: none\; font-style: inherit\; font-variant: inherit\; font-weight: inherit\; font-stretch: inherit\; font-size: 15pt\; line-height: inherit\; font-family: inherit\; vertical-align: baseline\; bottom: auto\; clear: none\; color: inherit\; content: normal\; direction: inherit\; empty-cells: show\; left: auto\; letter-spacing: inherit\; max-height: none\; max-width: none\; min-height: initial\; min-width: initial\; opacity: 1\; outline-offset: 0px\; overflow: visible\; position: static\; resize: none\; right: auto\; table-layout: auto\; text-align: inherit\; text-indent: inherit\; text-overflow: clip\; text-transform: inherit\; top: auto\; visibility: inherit\; white-space: inherit\; word-break: inherit\; word-spacing: inherit\; word-wrap: inherit\; z-index: auto\; background: none\; border-collapse: separate\; border-radius: 0px\; height: auto\; width: auto\; box-shadow: none\;"> Enjoy networking in a fun and relaxed environment.&nbsp\; Held at a variety of Chamber member businesses\, these evening receptions are a great place to meet fellow professionals.&nbsp\; After Hours events are always professionally catered\, August will be catered by Cater 4 You.&nbsp\; Beer and wine will be provided\, we have great prizes and a chance to learn about our host location.&nbsp\;&nbsp\;</span></span></span></div>\n</div>\n</div>\n
LOCATION:19802 62nd Ave S #101\, Kent\, WA 98032
UID:e.16.5855
SEQUENCE:3
DTSTAMP:20260424T183042Z
URL:https://chamber.gorenton.com/events/details/chamber-after-hours-denali-federal-credit-union-5855
END:VEVENT

END:VCALENDAR
