BEGIN:VCALENDAR
VERSION:2.0
PRODID:-//ChamberMaster//Event Calendar 2.0//EN
METHOD:PUBLISH
X-PUBLISHED-TTL:P3D
REFRESH-INTERVAL:P3D
CALSCALE:GREGORIAN
BEGIN:VEVENT
DTSTART:20181116T010000Z
DTEND:20181116T030000Z
X-MICROSOFT-CDO-ALLDAYEVENT:FALSE
SUMMARY:Chamber After Hours Event - Four Generals (229 Wells Ave S\, Renton)
DESCRIPTION:Come join us for the After Hours at Four Generals Brewing and the neighboring BLOQS - located in the Old City Hall (where the original old jail cell is still in existence .....)  A fun opportunity to invite your coworkers\, staff and other business professionals out to mingle with existing and prospective Chamber members!\n\n\n\nAnd aside from networking\, learning more about Four Generals and the other businesses located in the Old City Hall\, join us in celebrating Renton's newest Chief of Police\, Ed VanValey - we might even find some fundraising pleasure in combining our historic location of Old City Hall with Chief VanValey's newest promotional badge behind bars!\n\n\n\nNeighboring BLOQS is opening their doors to watch the football game. Enjoy some fun and networking between both locations.\n\n\n\nFour Generals Brewing - located in the Old City Hall\n\n229 Wells Avenue South\, Renton\n\n\n\n"The minute we walked into the Old City Hall\, we knew we wanted to have our brewery here. The original brick walls and wood ceiling joists give such a warm\, welcoming atmosphere that hearkens back to Renton's coal mining and logging roots. Our taproom features live-edge wood tables and bars to complement the original features of the building."\n\n\n\nCraft Brewing\n\nBrewmaster Ross Hudspeth is passionate about creating delicious\, local\, well-balanced beers that are new and exciting but also delving into traditional beers of other countries. Expect to find new twists on Pacific Northwest style beers as well as forays into other regional beers from around the world.\n\n\n\nFounders\n\nSeeing the meticulous care Ross took in consistently improving his beer and his passion to make it the best he could inspired Mary and Mike to jump on board and support Ross' dream of becoming a professional brewer. A truly family-owned business\, we are in it together to make great beer and create an atmosphere where the Renton community can feel at home.
X-ALT-DESC;FMTTYPE=text/html:<p style="color: rgb(51\, 51\, 51)\; font-family: sans-serif\, Arial\, Verdana\, &quot\;Trebuchet MS&quot\;\; font-size: 13px\;">Come join us for the After Hours at Four Generals Brewing and the neighboring BLOQS - located in the Old City Hall (where the original old jail cell is still in existence .....)&nbsp\; A fun opportunity to invite your coworkers\, staff and other business professionals out to mingle with existing and prospective Chamber members!</p>\n\n<p style="color: rgb(51\, 51\, 51)\; font-family: sans-serif\, Arial\, Verdana\, &quot\;Trebuchet MS&quot\;\; font-size: 13px\;"><br />\nAnd aside from networking\, learning more about Four Generals and the other businesses located in the Old City Hall\, join us in celebrating Renton&#39\;s newest Chief of Police\, Ed VanValey - we might even find some fundraising pleasure in combining our historic location of Old City Hall with Chief VanValey&#39\;s newest promotional badge behind bars!<br />\n<br />\nNeighboring BLOQS is opening their doors to watch the football game. Enjoy some fun and networking between both locations.<br />\n<br />\nFour Generals Brewing - located in the Old City Hall<br />\n229 Wells Avenue South\, Renton<br />\n<br />\n&quot\;The minute we walked into the Old City Hall\, we knew we wanted to have our brewery here. The original brick walls and wood ceiling joists give such a warm\, welcoming atmosphere that hearkens back to Renton&rsquo\;s coal mining and logging roots. Our taproom features live-edge wood tables and bars to complement the original features of the building.&quot\;<br />\n<br />\nCraft Brewing<br />\nBrewmaster Ross Hudspeth is passionate about creating delicious\, local\, well-balanced beers that are new and exciting but also delving into traditional beers of other countries. Expect to find new twists on Pacific Northwest style beers as well as forays into other regional beers from around the world.<br />\n<br />\nFounders<br />\nSeeing the meticulous care Ross took in consistently improving his beer and his passion to make it the best he could inspired Mary and Mike to jump on board and support Ross&rsquo\; dream of becoming a professional brewer. A truly family-owned business\, we are in it together to make great beer and create an atmosphere where the Renton community can feel at home.&nbsp\;</p>\n
LOCATION:Four Generals Brewing 229 Wells Ave S. Renton\, WA 98057
UID:e.16.5858
SEQUENCE:3
DTSTAMP:20260424T124140Z
URL:https://chamber.gorenton.com/events/details/chamber-after-hours-event-four-generals-229-wells-ave-s-renton-5858
END:VEVENT

END:VCALENDAR
