BEGIN:VCALENDAR
VERSION:2.0
PRODID:-//ChamberMaster//Event Calendar 2.0//EN
METHOD:PUBLISH
X-PUBLISHED-TTL:P3D
REFRESH-INTERVAL:P3D
CALSCALE:GREGORIAN
BEGIN:VEVENT
DTSTART:20190118T010000Z
DTEND:20190118T030000Z
X-MICROSOFT-CDO-ALLDAYEVENT:FALSE
SUMMARY:Chamber After Hours Event - Renton Downtown Partnership "IGNITE"
DESCRIPTION:Join the Renton Downtown Partnership as they host their "IGNITE" Event .....\n\nThis "IGNITE" event is a 2019 Kick-Off Fun & Fundraiser for the Renton Downtown Partnership.  Designed to IGNITE excitement about all of the great activities and events happening in downtown Renton\, promote the downtown core and celebrate the revitalization and great things happening!
X-ALT-DESC;FMTTYPE=text/html:<p>Join the Renton Downtown Partnership as they host their &quot\;IGNITE&quot\; Event .....</p>\n\n<p>This &quot\;IGNITE&quot\; event is a 2019 Kick-Off Fun &amp\; Fundraiser for the Renton Downtown Partnership.&nbsp\; Designed to IGNITE excitement about all of the great activities and events happening in downtown Renton\, promote the downtown core and celebrate the revitalization and great things happening!&nbsp\;&nbsp\;&nbsp\;&nbsp\;</p>\n
LOCATION:Renton Event Center 233 Burnett Ave S. Renton\, WA 98057
UID:e.16.5991
SEQUENCE:3
DTSTAMP:20260424T110045Z
URL:https://chamber.gorenton.com/events/details/chamber-after-hours-event-renton-downtown-partnership-ignite-5991
END:VEVENT

END:VCALENDAR
