BEGIN:VCALENDAR
VERSION:2.0
PRODID:-//ChamberMaster//Event Calendar 2.0//EN
METHOD:PUBLISH
X-PUBLISHED-TTL:P3D
REFRESH-INTERVAL:P3D
CALSCALE:GREGORIAN
BEGIN:VEVENT
DTSTART:20180921T000000Z
DTEND:20180921T020000Z
X-MICROSOFT-CDO-ALLDAYEVENT:FALSE
SUMMARY:Chamber After Hours Event - The Berliner Restaurant & Pub
DESCRIPTION:Join fellow chamber members for a fun after work event of networking\, sponsor provided libations and great food!\n\n10% discount on food & drinks
X-ALT-DESC;FMTTYPE=text/html:<div><font size="2">Join fellow chamber members&nbsp\;for a fun after work event of networking\, sponsor provided&nbsp\;libations and great food!</font></div>\n\n<div>10% discount on food &amp\; drinks</div>\n
LOCATION:Berliner Restaurant & Pub 221 Main Ave S Renton\, WA 98057
UID:e.16.5907
SEQUENCE:3
DTSTAMP:20260424T153438Z
URL:https://chamber.gorenton.com/events/details/chamber-after-hours-event-the-berliner-restaurant-pub-5907
END:VEVENT

END:VCALENDAR
