BEGIN:VCALENDAR
VERSION:2.0
PRODID:-//ChamberMaster//Event Calendar 2.0//EN
METHOD:PUBLISH
X-PUBLISHED-TTL:P3D
REFRESH-INTERVAL:P3D
CALSCALE:GREGORIAN
BEGIN:VEVENT
DTSTART:20221029T190000Z
DTEND:20221029T220000Z
X-MICROSOFT-CDO-ALLDAYEVENT:FALSE
SUMMARY:Renton VFW Post 1263 Children's Halloween Costume Party and Fun Hall Dance Party with Guest DJ
DESCRIPTION:Kids Halloween Party from 12 - 3pm. Lots of fun activities for your kiddies\, or grandkids! Special guest DJ\, dance and wear out your little ones!!! Costume contest\, cake walk\, games\, arts and crafts. Each child get's a free goodie bag\, let everyone know!!!
X-ALT-DESC;FMTTYPE=text/html:<p>Kids Halloween Party from 12 - 3pm. Lots of fun activities for your kiddies\, or grandkids! Special guest DJ\, dance and wear out your little ones!!! Costume contest\, cake walk\, games\, arts and crafts. Each child get&#39\;s a free goodie bag\, let everyone know!!!</p>\n
LOCATION:416 Burnett Avenue South Renton WA\, 98057
UID:e.16.13634
SEQUENCE:3
DTSTAMP:20260419T175051Z
URL:https://chamber.gorenton.com/events/details/children-s-halloween-costume-party-and-fun-hall-dance-party-with-guest-dj-13634
END:VEVENT

END:VCALENDAR
