BEGIN:VCALENDAR
VERSION:2.0
PRODID:-//ChamberMaster//Event Calendar 2.0//EN
METHOD:PUBLISH
X-PUBLISHED-TTL:P3D
REFRESH-INTERVAL:P3D
CALSCALE:GREGORIAN
BEGIN:VEVENT
DTSTART:20221125T200000Z
DTEND:20221223T200000Z
X-MICROSOFT-CDO-ALLDAYEVENT:FALSE
SUMMARY:Christmas Ship™ Festival
DESCRIPTION:Join us in celebrating the holidays by coming out to our Christmas Ship  Festival. Hop aboard the official Christmas Ship \, the Spirit of Seattle \, and visit waterfront communities around Seattle. This experience includes: - 1.5-hour cruise to a waterfront community - On board community choir performance - Reading of 'Twas the Night Before Christmas - Full-service bar with specialty cocktails\, local wine & beer\, and non-alcoholic beverages *Our 2 pm sailings will be featuring "Cookies with Santa"\, bring your kids and have them enjoy a cookie on us!* Join our Ugly Sweater Party! Buy tickets to our 21+ Follow Boat! Only on select nights.
X-ALT-DESC;FMTTYPE=text/html:Join us in celebrating the holidays by coming out to our Christmas Ship&trade\; Festival. Hop aboard the official Christmas Ship&trade\;\, the Spirit of Seattle&trade\;\, and visit waterfront communities around Seattle. This experience includes: - 1.5-hour cruise to a waterfront community - On board community choir performance - Reading of &lsquo\;Twas the Night Before Christmas - Full-service bar with specialty cocktails\, local wine &amp\; beer\, and non-alcoholic beverages *Our 2 pm sailings will be featuring &quot\;Cookies with Santa&quot\;\, bring your kids and have them enjoy a cookie on us!* Join our Ugly Sweater Party! Buy tickets to our 21+ Follow Boat! Only on select nights.
LOCATION:Various departure locations
UID:e.16.13620
SEQUENCE:3
DTSTAMP:20260419T151239Z
URL:https://chamber.gorenton.com/events/details/christmas-ship-festival-11-25-2022-13620
END:VEVENT

END:VCALENDAR
