BEGIN:VCALENDAR
VERSION:2.0
PRODID:-//ChamberMaster//Event Calendar 2.0//EN
METHOD:PUBLISH
X-PUBLISHED-TTL:P3D
REFRESH-INTERVAL:P3D
CALSCALE:GREGORIAN
BEGIN:VEVENT
DTSTART:20260523T180000Z
DTEND:20260523T200000Z
X-MICROSOFT-CDO-ALLDAYEVENT:FALSE
SUMMARY:Citizen's Academy Children's Business Fair
DESCRIPTION:Observe the opportunity for children to launch their very own business! Children develop a brand\, create a product or service\, build a marketing strategy\, and then open for customers at our one-day marketplace. This event is sponsored by Acton Academy\, and the generous support of our donors and volunteers. We all believe that principled entrepreneurs are heroes and role models for the next generation. Whether an entrepreneur is famous like Steve Jobs or Sara Blakely or they are one of the thousands of unsung business owners across this country\, these are the people who make sacrifices to innovate\, create jobs and serve their communities. Find out more at www.childrensbusinessfair.org/renton-washington/
X-ALT-DESC;FMTTYPE=text/html:Observe the opportunity for children to launch their very own business! Children develop a brand\, create a product or service\, build a marketing strategy\, and then open for customers at our one-day marketplace. This event is sponsored by Acton Academy\, and the generous support of our donors and volunteers. We all believe that principled entrepreneurs are heroes and role models for the next generation. Whether an entrepreneur is famous like Steve Jobs or Sara Blakely or they are one of the thousands of unsung business owners across this country\, these are the people who make sacrifices to innovate\, create jobs and serve their communities. Find out more at www.childrensbusinessfair.org/renton-washington/
LOCATION:10421 SE 192nd St\, Renton\, WA 98055
UID:e.16.32297
SEQUENCE:3
DTSTAMP:20260425T222733Z
URL:https://chamber.gorenton.com/events/details/citizen-s-academy-children-s-business-fair-32297
END:VEVENT

END:VCALENDAR
